BEGIN:VCALENDAR
VERSION:2.0
PRODID:-//Delphy - ECPv6.15.18//NONSGML v1.0//EN
CALSCALE:GREGORIAN
METHOD:PUBLISH
X-WR-CALNAME:Delphy
X-ORIGINAL-URL:https://delphy.nl
X-WR-CALDESC:Evenementen voor Delphy
REFRESH-INTERVAL;VALUE=DURATION:PT1H
X-Robots-Tag:noindex
X-PUBLISHED-TTL:PT1H
BEGIN:VTIMEZONE
TZID:Europe/Amsterdam
BEGIN:DAYLIGHT
TZOFFSETFROM:+0100
TZOFFSETTO:+0200
TZNAME:CEST
DTSTART:20250330T010000
END:DAYLIGHT
BEGIN:STANDARD
TZOFFSETFROM:+0200
TZOFFSETTO:+0100
TZNAME:CET
DTSTART:20251026T010000
END:STANDARD
BEGIN:DAYLIGHT
TZOFFSETFROM:+0100
TZOFFSETTO:+0200
TZNAME:CEST
DTSTART:20260329T010000
END:DAYLIGHT
BEGIN:STANDARD
TZOFFSETFROM:+0200
TZOFFSETTO:+0100
TZNAME:CET
DTSTART:20261025T010000
END:STANDARD
BEGIN:DAYLIGHT
TZOFFSETFROM:+0100
TZOFFSETTO:+0200
TZNAME:CEST
DTSTART:20270328T010000
END:DAYLIGHT
BEGIN:STANDARD
TZOFFSETFROM:+0200
TZOFFSETTO:+0100
TZNAME:CET
DTSTART:20271031T010000
END:STANDARD
END:VTIMEZONE
BEGIN:VEVENT
DTSTART;TZID=Europe/Amsterdam:20260220T000000
DTEND;TZID=Europe/Amsterdam:20260317T000000
DTSTAMP:20260420T011841
CREATED:20251105T095104Z
LAST-MODIFIED:20260317T073959Z
UID:15862-1771545600-1773705600@delphy.nl
SUMMARY:Spuitlicentiebijeenkomsten voor Boomkwekerij en Vaste Plantenteelt
DESCRIPTION:Winterseizoen 2025-2026\nDelphy organiseert komende winterperiode weer spuitlicentiebijeenkomsten voor de verlenging van uw licentie Uitvoeren of Bedrijfsvoeren.\nKies wat bij u past: op locatie of online vanuit huis en meld u aan via de tickets hiernaast. \nActualiteiten Gewasbescherming (categorie Teelt)\nOnze ervaren teeltadviseurs blikken terug op het afgelopen seizoen en bespreken de nieuwste ontwikkelingen in gewasbescherming richting 2026 en verder.\nU krijgt praktische inzichten over weerbare teeltsystemen\, onderzoeksresultaten en andere relevante vernieuwingen. \nVeiligheid en Techniek (categorie Veiligheid en techniek)\nBlijf op de hoogte van de laatste regels en technieken om veilig te werken met gewasbeschermingsmiddelen — voor uzelf én uw omgeving. Daarnaast is er aandacht voor spuittechniek\, milieuwetgeving en actuele innovaties. \nAanmelden\n* Op dit moment zijn er op korte termijn geen zaalbijeenkomsten meer ingepland\, aanmelden is dus niet mogelijk * \nKies in onze webshop bij ‘Tickets’ de bijeenkomst(en) die u wilt volgen (let op dat u maar één keer dezelfde bijeenkomst kan volgen voor een verlengingspunt).\nKlik hierop en vul uw gegevens in. Vervolgens gaat u naar het winkelmandje om af te rekenen.\nU betaalt direct bij aanmelding via iDEAL. Na afronding ontvangt u een email van uw aanmelding(en). Ruim voor aanvang van de bijeenkomst ontvangt u een email met locatie en tijd. \nLet op\nSinds 1 september 2025 handhaaft Bureau Erkenningen de regel dat u maar één keer dezelfde bijeenkomst kan volgen voor een verlengingspunt. Wij vermelden daarom bij iedere kennisbijeenkomst het unieke nummer (tussen haakjes) van het kennisaanbod in de titel. \n\nWilt u via een e-mail op de hoogte blijven van de bijeenkomsten die Delphy\, team Boomteelt en Vaste Plantenteelt het hele jaar door organiseert?\nStuur een e-mail o.v.v. spuitlicentiebijeenkomsten en uw adresgegevens naar j.blanken@delphy.nl
URL:https://delphy.nl/event/spuitlicentiebijeenkomsten-voor-boomkwekerij-en-vaste-plantenteelt/
CATEGORIES:Kennisbijeenkomst,Webinar
ATTACH;FMTTYPE=image/jpeg:https://delphy.nl/wp-content/uploads/Boomteelt/Boomteelt-topspinner-ilex.jpg
END:VEVENT
BEGIN:VEVENT
DTSTART;TZID=Europe/Amsterdam:20260324T123000
DTEND;TZID=Europe/Amsterdam:20260324T193000
DTSTAMP:20260420T011841
CREATED:20260225T160053Z
LAST-MODIFIED:20260225T160126Z
UID:16772-1774355400-1774380600@delphy.nl
SUMMARY:LichtEvent 2026
DESCRIPTION:Op dinsdag 24 maart ben je van harte welkom bij het LichtEvent bij Delphy Improvement Centre in Bleiswijk. Tijdens deze middag staat licht en belichting in de glastuinbouw centraal: van praktijkervaringen tot nieuwe inzichten en kansen voor de toekomst. \nHet plenaire gedeelte staat in het teken van ontwikkelingen op de energiemarkt en de gevolgen voor belichting en WKK\, gevolgd door een panelgesprek. Daarna kun je zelf twee workshops of een rondleiding kiezen\, zodat het programma goed aansluit op jouw interesses. \nHet LichtEvent is bedoeld voor telers en teeltspecialisten maar biedt ook waardevolle inzichten voor adviseurs\, onderzoekers en toeleveranciers die zich willen verdiepen in groeilicht en natuurlijk licht. De organisatie is in handen van Kas als Energiebron\, Delphy Improvement Centre\, Wageningen University & Research\, Plant Lighting en Glastuinbouw Nederland. \nMeld je aan en stel jouw ideale LichtEvent samen! \nProgramma\n12.30 uur Ontvangst\n13.00 uur Opening door Adri Bom-Lemstra (voorzitter Glastuinbouw Nederland)\n13.15 uur  Ontwikkeling energiemarkt en de impact op belichting en WKK door Martien Visser (Emeritus-lector Hanzehogeschool Groningen)\n13.45 uur  Panelgesprek  met Martien Visser\n14.00 uur Workshops/rondleiding ronde 1\n15.15 uur Pauze\n16.15 uur Workshops/rondleiding ronde 2\n17.30 uur Netwerkborrel en diner\n19.30 uur Einde bijeenkomst \nLocatie\nDelphy Improvement Centre: Violierenweg 3\, 2665 MV Bleiswijk \nKosten\nDeelname bedraagt € 30\,00 excl. BTW\, bij directe betaling via iDEAL. Ontvang je liever een factuur\, dan zijn de kosten € 37\,50 excl. BTW (dit kun je op het aanmeldformulier aangeven). \nAanmelden\nMeld je aan via het aanmeldformulier. Aanmelden is verplicht en kan tot en met donderdag 19 maart. Het LichtEvent is gericht op telers. Ben je geen teler dan is je aanmelding onder voorbehoud van beschikbaarheid. Indien wij je aanmelding hierdoor moeten annuleren krijg je uiterlijk vrijdag 20 maart bericht hierover. \nAnnuleren\nAnnuleren kan alleen schriftelijk via akerkhof@glastuinbouwnederland.nl. Bij annulering vóór 20 maart wordt het inschrijfgeld\, minus € 7\,50 administratiekosten\, terugbetaald. Hierna kun je niet meer annuleren. In overleg kun je een vervanger sturen. \nAlle genoemde kosten zijn per persoon en exclusief BTW. \nBeeldmateriaal\nEr kunnen foto’s en video’s gemaakt worden ter terugblik of promotie van deze bijeenkomst. Als je daar bezwaar tegen hebt dan kun je dit vooraf aangeven via info@kasalsenergiebron.nl \nMeer informatie\nNeem voor meer informatie contact op met Dennis Medema\, telefoon 085 003 64 00\, mobiel 06 422 530 55 \, e-mail dmedema@glastuinbouwnederland.nl.
URL:https://delphy.nl/event/lichtevent-2026/
LOCATION:Delphy Improvement Centre\, Violierenweg 3\, Bleiswijk\, 2665 MV\, Nederland
CATEGORIES:Kennisbijeenkomst
ATTACH;FMTTYPE=image/jpeg:https://delphy.nl/wp-content/uploads/Evenementen/Foto-LichtEvent2025-Klein.jpg
ORGANIZER;CN="Glastuinbouw Nederland":MAILTO:info@glastuinbouwnederland.nl
END:VEVENT
BEGIN:VEVENT
DTSTART;TZID=Europe/Amsterdam:20260324T130000
DTEND;TZID=Europe/Amsterdam:20260326T180000
DTSTAMP:20260420T011841
CREATED:20251119T134025Z
LAST-MODIFIED:20260309T140431Z
UID:16189-1774357200-1774548000@delphy.nl
SUMMARY:GreenTech Americas (Mexico)
DESCRIPTION:Tijdens deze beurs laten we je graag zien hoe je je teelt naar een hoger niveau kunt tillen met onze QMS oplossingen in tomaat\, komkommer en aardbei. Met een slimme combinatie van groeimodellen\, digitalisering en de assimilatenbalans ondersteunen we jouw dagelijkse teeltstrategie. Of je nu stuurt op productie\, kwaliteit of balans in de plant\, QMS geeft je realtime inzicht en helpt je de juiste keuzes te maken. Wij geloven dat de toekomst van teeltmanagement data-gedreven is\, maar altijd met de plant centraal.\nKom gerust langs\, stel je vragen en ontdek hoe wij jou kunnen helpen met de teelt van morgen! \nBezoek ons op de GreenTech Amercias in Querétaro in Mexico van 24 – 26 March 2026.\nU vindt ons in stand: 2014\nTot dan! \nLocatie: \nQuerétaro Centro de Congresos\nQRO México\nPaseo de las Artes 1531\nJosefa Vergara 76090\nMexico
URL:https://delphy.nl/event/greentech-americas-mexico/
LOCATION:Querétaro Centro de Congresos QRO México\, Querétaro\, 76090\, Mexico
CATEGORIES:Beurs
ATTACH;FMTTYPE=image/png:https://delphy.nl/wp-content/uploads/Evenementen/Delphy_PS-Logo_RGB-Klein.png
END:VEVENT
BEGIN:VEVENT
DTSTART;TZID=Europe/Amsterdam:20260325T130000
DTEND;TZID=Europe/Amsterdam:20260325T190000
DTSTAMP:20260420T011841
CREATED:20260211T150919Z
LAST-MODIFIED:20260318T073541Z
UID:17205-1774443600-1774465200@delphy.nl
SUMMARY:Delphy ISFC Kennisevent 25 maart 2026
DESCRIPTION:Welkom!\nOp woensdag 25 maart 2026 organiseert Delphy ISFC een internationaal Kennisevent zachtfruit op de onderzoekslocatie voor zachtfruit: Delphy Innovative Soft Fruit Centre in Horst. Tijdens het Kennisevent worden lopende proeven toegelicht en diverse thema’s verder uitgediept. In de middag is er volop gelegenheid om te netwerken.\nAanmelden is mogelijk via het formulier onderaan deze pagina. \nProgramma\n12.45 – 13.30 uur     Ontvangst met koffie\n13.30 – 13.45 uur     Opening en uitleg over de workshops\nTijdens de workshoprondes rouleren kleine groepen tussen de thema’s\, zodat u ieder thema kunt bijwonen. \n13.45 – 15.15 uur     Workshop ronde 1 (thema 1 t/m 4)\n\nThema 1 – Belichte teelt met doordragers | Pim Kleeven\, Delphy ISFC\nThema 2 – Innovatieve en duurzame meeldauwbestrijding in de aardbeienteelt | Vera Theelen\, Delphy ISFC\nThema 3 – Start vandaag met datagedreven telen | Frans-Peter Dechering\, Corvus Drones\nThema 4 – AI op de werkvloer in jouw glastuinbouwbedrijf | Arna Vliegen-Verschure \,Kasgroeit\n\n15.15 – 15.45 uur     Pauze \n15.45 – 17.15 uur     Workshop ronde 2 (thema 5 t/m 8)\n\nThema 5 – Vergroening in het zachtfruit | Luc Kurris\, Royal Brinkman\nThema 6 – Aardbei: Rijp voor digitalisering | Erik Gerichhausen\, Royal Berry & Oscar Scheepers + Rene Beerkens\, Hoogendoorn\nThema 7 – Naar een duurzame onbelichte aardbeienteelt – Op weg naar fossielvrij | Gondy Heijerman\, Delphy ISFC\nThema 8 – Met een geknepen kas onderweg naar een klimaatneutrale aardbeienteelt | Pim Kleeven\, Delphy ISFC\n\n17.15 – 19.00 uur     Netwerkborrel \nToegang\nDit kennisevent heeft een gelimiteerd aantal bezoekers. Vanwege een beperkt aantal beschikbare plaatsen is het aantal aanmeldingen per bedrijf gelimiteerd tot twee personen per bedrijf. \nAanmeldformulier\n\n                    Delphy ISFC kennisbijeenkomst op 25 maart 2026BedrijfsnaamVoornaamTussenvoegselAchternaamAdresAdresPlaatsPostcodeLandSelecteer landAfghanistanAlbaniëAlgerijeAmerikaans SamoaAndorraAngolaAnguillaAntarcticaAntigua en BarbudaArgentiniëArmeniëArubaAustraliëAzerbaijanBahamasBahrainBangladeshBarbadosBelgiëBelizeBeninBermudaBhutanBoliviaBonaire\, Sint Eustatius en SabaBosnië en HerzegovinaBotswanaBouvet EilandenBraziliëBrits Indische OceaanterritoriumBritse MaagdeneilandenBruneiBulgarijeBurkina FasoBurundiCambodiaCameroonCanadaCentraal Afrikaanse RepubliekChadChiliChinaColombiaComorenCookeilandenCosta RicaCubaCuracaoCyprusDemocratische Republiek Congo (Kinshasa)DenemarkenDjiboutiDominicaDominicaanse RepubliekDuitslandEcuadorEgypteEl SalvadorEquatoriaal GuineaEritreaEstlandEswatiniEthiopiëFaeroër EilandenFalkland EilandenFijiFilipijnenFinlandFrankrijkFrans GuyanaFrans PolynesiëFranse Zuidelijke GebiedenGabonGambiaGeorgiëGhanaGibraltarGrenadaGriekenlandGroenlandGuadeloupeGuamGuatemalaGuernseyGuineaGuinea-BissauGuyanaHaitiHeard eiland en McDonald eilandenHondurasHong KongHongarijeIJslandIerlandIndiaIndonesiëIrakIranIsle of ManIsraëlItaliëIvoorkustJamaicaJapanJerseyJordaniëKaaiman EilandenKaapverdiëKazakhstanKeniaKersteilandKiribatiKokos EilandenKosovoKroatiëKuwaitKyrgyzstanLaosLesothoLetlandLibanonLiberiëLibiëLiechtensteinLithouwenLuxemburgMacao S.A.R.\, ChinaMadagascarMalawiMaledivenMaleisiëMaliMaltaMarokkoMarshall EilandenMartiniqueMauritaniaMauritiusMayotteMexicoMicronesiëMoldaviëMonacoMongoliëMontenegroMontserratMozambiqueMyanmarNamibiaNauruNederlandNepalNicaraguaNieuw CaledoniëNieuw ZeelandNigerNigeriaNiueNoord MacedoniëNoord-KoreaNoordelijke Mariana eilandenNoorwegenNorfolk EilandOekraineOmanOostenrijkPakistanPalauPalestijnse GebiedenPanamaPapua New GuineaParaguayPeruPitcairnPolenPortugalPuerto RicoQatarRepubliek Congo (Brazzaville)RoemeniëRuslandRwandaRéunionSaint BarthélemySaint LuciaSaint Vincent en de GrenadinesSaint-Pierre en MiquelonSamoaSan MarinoSao Tome en PrincipeSaudi ArabiëSenegalServiëSeychellenSierra LeoneSingaporeSint HelenaSint Kitts en NevisSint Maarten (Frans deel)Sint Maarten (Nederlands deel)SloveniëSlowakijeSoedanSolomon eilandenSomaliaSpanjeSri LankaSurinameSvalbard en Jan MayenSyriëTaiwanTajikistanTanzaniaThailandTimor-LesteTogoTokelauTongaTrinidad en TobagoTsjechiëTunesiëTurkijeTurkmenistanTurks en Caicos eilandenTuvaluUgandaUruguayUzbekistanVanuatuVaticaanstadVenezuelaVerenigd Koninkrijk (VK)Verenigde Arabische EmiratenVerenigde Staten (VS)Verenigde Staten (VS) Maagden EilandenVerenigde Staten (VS) Ondergeschikte Afgelegen EilandenViëtnamWallis and FutunaWestern SaharaWit-RuslandYemenZambiaZimbabweZuid AfrikaZuid SoedanZuid-Georgië / Sandwich-eilandenZuid-KoreaZwedenZwitserlandÅlands EilandenTelefoonE-mailIk neem deel als: Ik ben teler/plantenkweker met teeltbegeleiding van Delphy Innovatiepartner Opdrachtgever van lopende proef op Delphy ISFC Ik ben geen klant van Delphy. Ik ga akkoord met de kosten van € 100\,= excl. BTWMijn adviseur isFacturering Ik ga akkoord met automatische incasso.   Ik ontvang graag een factuur.Mijn rekeningnummer isMijn factuurgegevens zijn Hetzelfde als hierboven AndersBedrijfsnaamReferentieAdresWoonplaatsPostcodeIk volg de dag graag in de taal Nederlands EngelsAlgemene voorwaarden  Ik heb de algemene voorwaarden op de site gelezen en ga hiermee akkoord.Verzenden            \n            \n  \nProject Zachtfruit Groeizaam Gasarm wordt gefinancierd door:\n \n  \n \n 
URL:https://delphy.nl/event/delphy-isfc-kennisevent-25-maart-2026/
LOCATION:Delphy ISFC\, Horst\, Kreuzelweg 3b\, Horst\, 5961 NM\, Nederland
CATEGORIES:Kennisbijeenkomst
ATTACH;FMTTYPE=image/jpeg:https://delphy.nl/wp-content/uploads/20241030_133407-scaled.jpg
END:VEVENT
END:VCALENDAR