BEGIN:VCALENDAR
VERSION:2.0
PRODID:-//Delphy - ECPv6.15.18//NONSGML v1.0//EN
CALSCALE:GREGORIAN
METHOD:PUBLISH
X-WR-CALNAME:Delphy
X-ORIGINAL-URL:https://delphy.nl
X-WR-CALDESC:Evenementen voor Delphy
REFRESH-INTERVAL;VALUE=DURATION:PT1H
X-Robots-Tag:noindex
X-PUBLISHED-TTL:PT1H
BEGIN:VTIMEZONE
TZID:Europe/Amsterdam
BEGIN:DAYLIGHT
TZOFFSETFROM:+0100
TZOFFSETTO:+0200
TZNAME:CEST
DTSTART:20250330T010000
END:DAYLIGHT
BEGIN:STANDARD
TZOFFSETFROM:+0200
TZOFFSETTO:+0100
TZNAME:CET
DTSTART:20251026T010000
END:STANDARD
BEGIN:DAYLIGHT
TZOFFSETFROM:+0100
TZOFFSETTO:+0200
TZNAME:CEST
DTSTART:20260329T010000
END:DAYLIGHT
BEGIN:STANDARD
TZOFFSETFROM:+0200
TZOFFSETTO:+0100
TZNAME:CET
DTSTART:20261025T010000
END:STANDARD
BEGIN:DAYLIGHT
TZOFFSETFROM:+0100
TZOFFSETTO:+0200
TZNAME:CEST
DTSTART:20270328T010000
END:DAYLIGHT
BEGIN:STANDARD
TZOFFSETFROM:+0200
TZOFFSETTO:+0100
TZNAME:CET
DTSTART:20271031T010000
END:STANDARD
END:VTIMEZONE
BEGIN:VEVENT
DTSTART;TZID=Europe/Amsterdam:20260107T090000
DTEND;TZID=Europe/Amsterdam:20260107T170000
DTSTAMP:20260420T045223
CREATED:20250808T142919Z
LAST-MODIFIED:20250808T144223Z
UID:14624-1767776400-1767805200@delphy.nl
SUMMARY:Aardbeiendag 2026
DESCRIPTION:De inschrijving voor standhouders en bezoekers is geopend \nOp woensdag 7 januari 2026 is er weer de jaarlijkse Aardbeiendag in het Congrescentrum 1931 in ’s-Hertogenbosch. Een interessante dag voor iedereen die betrokken is bij de teelt van aardbeien: kennis\, netwerken en inspirerende sprekers. \nDe Aardbeiendag is een samenwerking tussen Delphy\, Glastuinbouw Nederland en ZLTO.\nBezoeker? Schrijf u hier in voor de aardbeiendag 2026! \n  \n 
URL:https://delphy.nl/event/aardbeiendag-2026/
LOCATION:1931 Congrescentrum ’s Hertogenbosch\, Oude Engelenseweg 1\, s-Hertogenbosch\, 5222 AA\, Netherlands
CATEGORIES:Kennisbijeenkomst
ATTACH;FMTTYPE=image/jpeg:https://delphy.nl/wp-content/uploads/aardbei-scaled.jpg
END:VEVENT
BEGIN:VEVENT
DTSTART;TZID=Europe/Amsterdam:20260108T083000
DTEND;TZID=Europe/Amsterdam:20260108T180000
DTSTAMP:20260420T045223
CREATED:20250808T143508Z
LAST-MODIFIED:20250808T143525Z
UID:14630-1767861000-1767895200@delphy.nl
SUMMARY:International Soft Fruit Conference 2026 (ISFC)
DESCRIPTION:Op donderdag 8 januari 2026 is er weer de jaarlijkse International Soft Fruit Conference in het Congrescentrum 1931 in ‘s-Hertogenbosch.\nDit unieke evenement biedt de mogelijkheid om kennis te delen\, bij te praten en uit te wisselen in de internationale zachtfruitsector. \nVoor meer info zie onze website: https://softfruitconference.com/
URL:https://delphy.nl/event/international-soft-fruit-conference-2026-isfc/
LOCATION:1931 Congrescentrum ’s Hertogenbosch\, Oude Engelenseweg 1\, s-Hertogenbosch\, 5222 AA\, Netherlands
CATEGORIES:Conferentie
ATTACH;FMTTYPE=image/png:https://delphy.nl/wp-content/uploads/Evenementen/logo-isfc.png
END:VEVENT
BEGIN:VEVENT
DTSTART;TZID=Europe/Amsterdam:20260123T140000
DTEND;TZID=Europe/Amsterdam:20260123T170000
DTSTAMP:20260420T045223
CREATED:20260116T122926Z
LAST-MODIFIED:20260116T123459Z
UID:16707-1769176800-1769187600@delphy.nl
SUMMARY:Praktijkgerichte workshop bodem en bemesting 23 januari
DESCRIPTION:Boomkwekers opgelet. Aankomende vrijdagmiddag (23 januari) organiseert Boomkwekerij Notkamp samen met Delphy een praktijkgerichte workshop over bodem en bemesting. We laten zien hoe u bodemanalyses beter uitleest en vertaalt naar een bemestings- en bodemplan dat past bij uw perceel. Met aandacht voor bodemgezondheid\, minder uitspoeling en toekomstbestendige boomteelt. Praktisch\, inhoudelijk en direct toepasbaar. \n📅 Vrijdag 23 januari 2026\n⏰ 14.00–17.00 uur\n📍 Boomkwekerij Notkamp\, De Lutte \n👉 Aanmelden kan door te mailen naar Peter Morrenhof\, p.morrenhof@delphy.nl \n  \nDe workshop wordt georganiseerd vanuit het demonstratieproject BUDO: Boomteelt uitgelicht duurzaamheid in Overijssel en wordt medegefinancierd door de provincie Overijssel en de Europese Unie.
URL:https://delphy.nl/event/praktijkgerichte-workshop-bodem-en-bemesting-23-januari/
LOCATION:Notkamp Boomkwekerij\, Zandhuizerweg 7\, Zandhuizen\, Drenthe\, 8389 TB\, Netherlands
CATEGORIES:Kennisbijeenkomst
ATTACH;FMTTYPE=image/png:https://delphy.nl/wp-content/uploads/projecten/foto-peter-veldbezoek-boomteelt-BUDO.png
END:VEVENT
END:VCALENDAR