BEGIN:VCALENDAR
VERSION:2.0
PRODID:-//Delphy - ECPv6.15.18//NONSGML v1.0//EN
CALSCALE:GREGORIAN
METHOD:PUBLISH
X-ORIGINAL-URL:https://delphy.nl
X-WR-CALDESC:Evenementen voor Delphy
REFRESH-INTERVAL;VALUE=DURATION:PT1H
X-Robots-Tag:noindex
X-PUBLISHED-TTL:PT1H
BEGIN:VTIMEZONE
TZID:Europe/Amsterdam
BEGIN:DAYLIGHT
TZOFFSETFROM:+0100
TZOFFSETTO:+0200
TZNAME:CEST
DTSTART:20230326T010000
END:DAYLIGHT
BEGIN:STANDARD
TZOFFSETFROM:+0200
TZOFFSETTO:+0100
TZNAME:CET
DTSTART:20231029T010000
END:STANDARD
BEGIN:DAYLIGHT
TZOFFSETFROM:+0100
TZOFFSETTO:+0200
TZNAME:CEST
DTSTART:20240331T010000
END:DAYLIGHT
BEGIN:STANDARD
TZOFFSETFROM:+0200
TZOFFSETTO:+0100
TZNAME:CET
DTSTART:20241027T010000
END:STANDARD
BEGIN:DAYLIGHT
TZOFFSETFROM:+0100
TZOFFSETTO:+0200
TZNAME:CEST
DTSTART:20250330T010000
END:DAYLIGHT
BEGIN:STANDARD
TZOFFSETFROM:+0200
TZOFFSETTO:+0100
TZNAME:CET
DTSTART:20251026T010000
END:STANDARD
END:VTIMEZONE
BEGIN:VEVENT
DTSTART;TZID=Europe/Amsterdam:20240321T193000
DTEND;TZID=Europe/Amsterdam:20240321T210000
DTSTAMP:20260421T124805
CREATED:20240320T105105Z
LAST-MODIFIED:20240320T110732Z
UID:8186-1711049400-1711054800@delphy.nl
SUMMARY:Webinar over Phytophthora Infestans in aardappelen
DESCRIPTION:Webinar voor telers in de regio Zuidwest-Nederland\nPhytophthorabestrijding vraagt dit jaar extra aandacht\, door de opkomst van nieuwe agressieve schimmelvarianten en de mindere gevoeligheid van deze varianten voor een aantal fungiciden. Het hele proces van kieming tot verspreiding van nieuwe sporen en aantastingen kan zich binnen vier dagen afspelen. Als de omstandigheden optimaal zijn voor de ziekte kan het een perceel aardappelen binnen twee tot drie weken volledig verwoesten. \nAanmelden\nDelphy organiseert op donderdagavond 21 maart\, 19:30 tot 20:45 uur\, een Webinar over Phytophthora Infestans in aardappelen. \nAanmelden is gratis en kan via deze link! \nOnderwerpen\n\nHerkenning van Phytophthora Infestans\nStrategie – beheersing en inzet van fungiciden voor aankomend seizoen\nDemonstratie van IPM Decisions platform\, met BOS’en voor diverse ziekten en plagen\nGebruik van een beslissingsondersteunend systeem (BOS) voor de bestrijding van Phytophthora Infestans\n\nIPM Decisions platform\nTijdens de Webinar zullen we laten zien hoe u BOS-systemen van het IPM Decisions platform op uw eigen bedrijf kunt toepassen. Op het IPM Decisions platform kunt u een gratis account aanmaken \n  \nInformatie\nNatasja Doelman \nDownload hier de uitnodiging voor het webinar.
URL:https://delphy.nl/event/webinar-over-phytophthora-infestans-in-aardappelen/
CATEGORIES:Webinar
ATTACH;FMTTYPE=image/jpeg:https://delphy.nl/wp-content/uploads/webinar-phytophthora.jpg
END:VEVENT
BEGIN:VEVENT
DTSTART;TZID=Europe/Amsterdam:20240327T123000
DTEND;TZID=Europe/Amsterdam:20240327T190000
DTSTAMP:20260421T124805
CREATED:20240122T091341Z
LAST-MODIFIED:20240311T122753Z
UID:6764-1711542600-1711566000@delphy.nl
SUMMARY:LichtEvent 2024
DESCRIPTION:Welk spectrum is het beste voor mijn gewas? Waar moet ik technisch gezien op letten bij de aanschaf en installatie van LED-belichting? Hoe moet ik ermee telen? Wat verandert er in het klimaat bij full LED-belichting en hoe reageert een gewas daar qua verdamping op? Wat is dynamisch belichten\, wat kan het opleveren en kan mijn gewas er wel tegen? \nVoor antwoorden op deze en andere vragen nodigen we u graag uit voor editie 2024 van het LichtEvent op woensdag 27 maart in Bleiswijk. Dit evenement is de ideale gelegenheid om kennis op te doen van de laatste ontwikkelingen\, inzichten en onderzoeken rondom (LED-) belichting en licht en daarover te discussiëren. Het evenement wordt georganiseerd door Delphy Improvement Centre\, Glastuinbouw Nederland\, Wageningen University & Research Business Unit Glastuinbouw & Bloembollen  en Plant Lighting in het kader van het programma Kas als Energiebron. \nU kunt deelnemen aan meerdere workshops over o.a. recent onderzoek rondom (LED-)belichting en kasproeven bezichtigen bij Delphy Improvement Centre en/of WUR. U kunt zelf uw voorkeuren opgeven voor de te volgen workshops en rondleidingen. Daarnaast kunt u de informatiemarkt met onder andere diverse LED-leveranciers bezoeken. \nPROGRAMMA\n12.30 uur Ontvangst\n13.00 uur Welkom en toelichting ontwikkelingen rondom energie in de glastuinbouw door Ruud Paauwe (Glastuinbouw Nederland)\nHoe kijken de retail sector en consument aan tegen belichting in de nabije toekomst met de huidige duurzaamheidsvraagstukken?\n13.45 uur Workshopronde 1\n14.45 uur Pauze en mogelijkheid bezoeken informatiemarkt\n15.30 uur Workshopronde 2\n16.30 uur Workshopronde 3\n17.30 uur Diner en mogelijkheid bezoeken informatiemarkt \nLOCATIE\nDelphy Improvement Centre\, Violierenweg 3\, 2665 MV Bleiswijk \nKOSTEN\nDeelname bedraagt € 30\,00 excl. BTW\, bij directe betaling via iDEAL. Ontvangt u liever een factuur\, dan zijn de kosten € 37\,50 excl. BTW (dit kunt u op het aanmeldformulier aangeven). \nAANMELDEN\nMeld u aan via het aanmeldformulier. Aanmelden is verplicht en kan tot maandag 25 maart\, 12.00 uur. Het LichtEvent is gericht op telers. Bent u geen teler dan is uw aanmelding onder voorbehoud van beschikbaarheid. Indien wij uw aanmelding hierdoor moeten annuleren krijgt u uiterlijk maandag 25 maart bericht hierover. \nANNULEREN\nAnnuleren kan alleen schriftelijk via akerkhof@glastuinbouwnederland.nl. Bij annulering vóór 25 maart \, 12.00 uur wordt uw inschrijfgeld\, minus € 7\,50 administratiekosten\, terugbetaald.\nNa 25 maart 12.00 uur kunt u niet meer annuleren. In overleg kunt u een vervanger sturen. \nAlle genoemde kosten zijn per persoon en exclusief BTW. \nBEELDMATERIAAL\nEr kunnen foto’s en video’s gemaakt worden ter terugblik of promotie van deze bijeenkomst. Als u daar bezwaar tegen heeft dan kunt u dit vooraf aangeven via info@kasalsenergiebron.nl. \nMEER INFORMATIE\nVoor vragen over het LichtEvent kunt u contact opnemen met Irma Bellekom.
URL:https://delphy.nl/event/lichtevent-2024/
LOCATION:Delphy Improvement Centre\, Violierenweg 3\, Bleiswijk\, 2665 MV\, Nederland
CATEGORIES:Conferentie
ATTACH;FMTTYPE=image/jpeg:https://delphy.nl/wp-content/uploads/LichtEvent-1.jpg
END:VEVENT
BEGIN:VEVENT
DTSTART;TZID=Europe/Amsterdam:20240327T130000
DTEND;TZID=Europe/Amsterdam:20240327T190000
DTSTAMP:20260421T124805
CREATED:20240201T120538Z
LAST-MODIFIED:20241023T095732Z
UID:7054-1711544400-1711566000@delphy.nl
SUMMARY:Delphy ISFC Kennisevent 27-03-2024
DESCRIPTION:Woensdag 27 maart 2024 organiseert Delphy ISFC weer een internationaal kennisevent zachtfruit. \nDeze voorjaarsbijeenkomst wordt georganiseerd op de onderzoekslocatie voor zachtfruit: Delphy Innovative Soft Fruit Centre te Horst. Tijdens dit event worden lopende proeven toegelicht en diverse thema’s verder uitgediept door Delphy en externe sprekers. Tevens is er deze middag ruimte om te netwerken. \nDit kennisevent heeft een gelimiteerd aantal bezoekers. Vanwege een beperkt aantal beschikbare plaatsen is het aantal aanmeldingen per bedrijf gelimiteerd tot twee personen per bedrijf. \nLet op: vol = vol \n\nProgramma\n12.45 – 13.30 uur     Ontvangst met koffie\n13.30 – 13.45 uur     Opening en uitleg over de workshops\n13.45 – 15.15 uur     Workshop ronde 1 (thema 1 t/m 4)\n15.15 – 15.45 uur     Pauze\n15.45 – 17.15 uur     Workshop ronde 2 (thema 5 t/m 8)\n17.15 – 19.00 uur     Netwerkborrel \nTijdens de workshop ronden wordt er in kleine groepen gerouleerd tussen de thema’s. Elk thema komt dus aan bod. \n1. Organisatiegroei door ontwikkeling van medewerkers – Edwin Zuidgeest\, Kasgroeit\n2. Bladluizen: Groene oplossingen van Biobest – Arno Hellemons & Peter van Meijl\, Biobest\n3. Aardbeien op steenwol: jaarrond onbelichte teelt – Thomas Peters\, Grodan & Vera Theelen\, Delphy ISFC\n4. Doordragers onder belichting 2.0 – Gondy Heijerman\, Delphy ISFC \n5. Praktische inzet van hogedruk nevel voor optimaal kas klimaat – Rob Kwinten\, MJ Tech\n6. Watergift in relatie tot substraat – Jan Willem van de Pol\, Van der Knaap\n7. Braam energiezuinig en toekomstbestendig – Pim Kleeven\, Delphy ISFC\n8. Doordrager doorteelt met verse planten – Bart Jongenelen\, Delphy ISFC \nGefinancierd door: \n \n  \n  \n\n\n                    Delphy ISFC kennisbijeenkomst op 26 maart 2025 (NL)BedrijfsnaamVoornaamTussenvoegselAchternaamAdresAdresPlaatsPostcodeLandSelecteer landAfghanistanAlbaniëAlgerijeAmerikaans SamoaAndorraAngolaAnguillaAntarcticaAntigua en BarbudaArgentiniëArmeniëArubaAustraliëAzerbaijanBahamasBahrainBangladeshBarbadosBelgiëBelizeBeninBermudaBhutanBoliviaBonaire\, Sint Eustatius en SabaBosnië en HerzegovinaBotswanaBouvet EilandenBraziliëBrits Indische OceaanterritoriumBritse MaagdeneilandenBruneiBulgarijeBurkina FasoBurundiCambodiaCameroonCanadaCentraal Afrikaanse RepubliekChadChiliChinaColombiaComorenCookeilandenCosta RicaCubaCuracaoCyprusDemocratische Republiek Congo (Kinshasa)DenemarkenDjiboutiDominicaDominicaanse RepubliekDuitslandEcuadorEgypteEl SalvadorEquatoriaal GuineaEritreaEstlandEswatiniEthiopiëFaeroër EilandenFalkland EilandenFijiFilipijnenFinlandFrankrijkFrans GuyanaFrans PolynesiëFranse Zuidelijke GebiedenGabonGambiaGeorgiëGhanaGibraltarGrenadaGriekenlandGroenlandGuadeloupeGuamGuatemalaGuernseyGuineaGuinea-BissauGuyanaHaitiHeard eiland en McDonald eilandenHondurasHong KongHongarijeIJslandIerlandIndiaIndonesiëIrakIranIsle of ManIsraëlItaliëIvoorkustJamaicaJapanJerseyJordaniëKaaiman EilandenKaapverdiëKazakhstanKeniaKersteilandKiribatiKokos EilandenKosovoKroatiëKuwaitKyrgyzstanLaosLesothoLetlandLibanonLiberiëLibiëLiechtensteinLithouwenLuxemburgMacao S.A.R.\, ChinaMadagascarMalawiMaledivenMaleisiëMaliMaltaMarokkoMarshall EilandenMartiniqueMauritaniaMauritiusMayotteMexicoMicronesiëMoldaviëMonacoMongoliëMontenegroMontserratMozambiqueMyanmarNamibiaNauruNederlandNepalNicaraguaNieuw CaledoniëNieuw ZeelandNigerNigeriaNiueNoord MacedoniëNoord-KoreaNoordelijke Mariana eilandenNoorwegenNorfolk EilandOekraineOmanOostenrijkPakistanPalauPalestijnse GebiedenPanamaPapua New GuineaParaguayPeruPitcairnPolenPortugalPuerto RicoQatarRepubliek Congo (Brazzaville)RoemeniëRuslandRwandaRéunionSaint BarthélemySaint LuciaSaint Vincent en de GrenadinesSaint-Pierre en MiquelonSamoaSan MarinoSao Tome en PrincipeSaudi ArabiëSenegalServiëSeychellenSierra LeoneSingaporeSint HelenaSint Kitts en NevisSint Maarten (Frans deel)Sint Maarten (Nederlands deel)SloveniëSlowakijeSoedanSolomon eilandenSomaliaSpanjeSri LankaSurinameSvalbard en Jan MayenSyriëTaiwanTajikistanTanzaniaThailandTimor-LesteTogoTokelauTongaTrinidad en TobagoTsjechiëTunesiëTurkijeTurkmenistanTurks en Caicos eilandenTuvaluUgandaUruguayUzbekistanVanuatuVaticaanstadVenezuelaVerenigd Koninkrijk (VK)Verenigde Arabische EmiratenVerenigde Staten (VS)Verenigde Staten (VS) Maagden EilandenVerenigde Staten (VS) Ondergeschikte Afgelegen EilandenViëtnamWallis and FutunaWestern SaharaWit-RuslandYemenZambiaZimbabweZuid AfrikaZuid SoedanZuid-Georgië / Sandwich-eilandenZuid-KoreaZwedenZwitserlandÅlands EilandenTelefoonE-mailIk neem deel als: Ik ben teler/plantenkweker met teeltbegeleiding van Delphy Innovatiepartner Opdrachtgever van lopende proef op Delphy ISFC Ik ben geen klant van Delphy. Ik ga akkoord met de kosten van € 100\,= excl. BTWMijn adviseur isFacturering Ik ga akkoord met automatische incasso.   Ik ontvang graag een factuur.Mijn rekeningnummer isMijn factuurgegevens zijn Hetzelfde als hierboven AndersBedrijfsnaamReferentieAdresWoonplaatsPostcodeIk volg de dag graag in de taal Nederlands EngelsAlgemene voorwaarden  Ik heb de algemene voorwaarden op de site gelezen en ga hiermee akkoord.Verzenden            \n            \n 
URL:https://delphy.nl/event/delphy-isfc-kennisevent-27-03-2024/
LOCATION:Delphy ISFC\, Horst\, Kreuzelweg 3b\, Horst\, 5961 NM\, Nederland
CATEGORIES:Kennisbijeenkomst
ATTACH;FMTTYPE=image/jpeg:https://delphy.nl/wp-content/uploads/20221102_133946-scaled.jpg
END:VEVENT
END:VCALENDAR