BEGIN:VCALENDAR
VERSION:2.0
PRODID:-//Delphy - ECPv6.15.18//NONSGML v1.0//EN
CALSCALE:GREGORIAN
METHOD:PUBLISH
X-WR-CALNAME:Delphy
X-ORIGINAL-URL:https://delphy.nl
X-WR-CALDESC:Evenementen voor Delphy
REFRESH-INTERVAL;VALUE=DURATION:PT1H
X-Robots-Tag:noindex
X-PUBLISHED-TTL:PT1H
BEGIN:VTIMEZONE
TZID:Europe/Amsterdam
BEGIN:DAYLIGHT
TZOFFSETFROM:+0100
TZOFFSETTO:+0200
TZNAME:CEST
DTSTART:20220327T010000
END:DAYLIGHT
BEGIN:STANDARD
TZOFFSETFROM:+0200
TZOFFSETTO:+0100
TZNAME:CET
DTSTART:20221030T010000
END:STANDARD
BEGIN:DAYLIGHT
TZOFFSETFROM:+0100
TZOFFSETTO:+0200
TZNAME:CEST
DTSTART:20230326T010000
END:DAYLIGHT
BEGIN:STANDARD
TZOFFSETFROM:+0200
TZOFFSETTO:+0100
TZNAME:CET
DTSTART:20231029T010000
END:STANDARD
BEGIN:DAYLIGHT
TZOFFSETFROM:+0100
TZOFFSETTO:+0200
TZNAME:CEST
DTSTART:20240331T010000
END:DAYLIGHT
BEGIN:STANDARD
TZOFFSETFROM:+0200
TZOFFSETTO:+0100
TZNAME:CET
DTSTART:20241027T010000
END:STANDARD
BEGIN:DAYLIGHT
TZOFFSETFROM:+0100
TZOFFSETTO:+0200
TZNAME:CEST
DTSTART:20250330T010000
END:DAYLIGHT
BEGIN:STANDARD
TZOFFSETFROM:+0200
TZOFFSETTO:+0100
TZNAME:CET
DTSTART:20251026T010000
END:STANDARD
END:VTIMEZONE
BEGIN:VEVENT
DTSTART;TZID=Europe/Amsterdam:20240227T193000
DTEND;TZID=Europe/Amsterdam:20240227T203000
DTSTAMP:20260421T160713
CREATED:20240212T155754Z
LAST-MODIFIED:20240227T120149Z
UID:7302-1709062200-1709065800@delphy.nl
SUMMARY:Webinars Fruitteelt
DESCRIPTION:Teeltsystemen: weerbaar en duurzaam\nDelphy organiseert in februari een drietal webinars binnen het thema ‘Teeltsystemen weerbaar en duurzaam’ met de volgende onderwerpen: Perenschurft\, Precisietoepassingen en Schadelijke Insecten. Na het lezen van de korte omschrijving van de verschillende webinars hieronder\, meldt u zich aan voor één of meerdere webinars via de link. We hopen u allen te ontmoeten tijdens onze Webinars! \nKlik hier voor Aanmelden Webinars Delphy \n27 februari schadelijke insecten\nTijd 19:30 – 20:30 uur \nOp deze avond komt een select aantal insecten aan bod die een grote rol spelen in de fruitteelt zoals perenbladvlo\, perengalmug\, appelzaagwesp en appelbloesemkever. Wat zijn de mogelijkheden van waarnemen in het veld en zijn er voorspellingsmodellen? Hoe kun je voorkomen dat schade ontstaat en wat is een effectieve aanpak? \nDoor Delphy – Niels Feder en Gerjan Brouwer\nIn kader van Project innovatieve en duurzame fruitteeltsystemen Zeeland (POP3) en UP Pilot Weerbaarheid in de Praktijk \nInformatie\nG. (Gerjan) Brouwer | M 06 53375103 | E g.brouwer@delphy.nl\nN. (Niels) Feder | M 06 57235072 |E n.feder@delphy.nl \nWeerbaarheid in de praktijk\nHet programma is onderdeel van het praktijkprogramma ‘Weerbaarheid in de praktijk’. Binnen dit programma zetten telers samen met teeltdeskundigen in diverse plantaardige sectoren stappen om minder en efficiënter gewasbeschermingsmiddelen toe te passen. De NFO\, het Platform FRUITVOORUIT.NL en Proeftuin Randwijk werken binnen dit programma samen met deskundigen uit de fruitsector aan nieuwe gewasbeschermingsstrategieën voor de fruitteelt en aan maatregelen die emissie van gewasbeschermingsmiddelen vanaf een perceel of erf nagenoeg reduceren tot nul.. \nAlgemene informatie\nVoor algemene informatie kunt u Mirjam Brouwer bereiken op ons secretariaat fruitteelt\, 0317 491 578 | E fruitteelt@delphy.nl \nOp 13 februari is het webinar over Perenschurft al gegeven in het kader van Project innovatieve en duurzame fruitteeltsystemen Zeeland (POP3) en WUR Systeemaanpak duurzame teelt. De laatste jaren zien we in de praktijk steeds meer schurft in peer. Waarom treedt schurft nu sterker op\, en hoe verschilt de aanpak van schurft op peer met die van appel? Delphy gaat in op achtergronden\, preventieve maatregelen en aanpak\, terwijl de WUR het recente onderzoek naar perenschurft toelicht. Door Delphy – Niels Feder en Gerjan Brouwer i.s.m. WUR – Kiki Kots. \nOp 21 februari was het webinar Resultaten spuiten op boomniveau. Op deze avond zijn onze bevindingen en resultaten van onze demo’s gepresenteerd\, die te maken hebben met de precisietoepassingen. Hoe is het dit seizoen verlopen\, wat hebben we kunnen behalen en wat zijn nog aandachtspunten. Door Delphy – Christian van Os. In kader van Project innovatieve en duurzame fruitteeltsystemen Zeeland (POP3) \nInformatie\nHeeft u nog vragen over de webinars\, neem contact op met \nG. (Gerjan) Brouwer | M 06 53375103 | E g.brouwer@delphy.nl\nN. (Niels) Feder | M 06 57235072 |E n.feder@delphy.nl\nC.(Christian) van Os | M 06 82831615 | E c.vanos@delphy.nl
URL:https://delphy.nl/event/webinars-fruitteelt/
CATEGORIES:Webinar
ATTACH;FMTTYPE=image/jpeg:https://delphy.nl/wp-content/uploads/Fruitteelt-onderzoek-2.jpg
END:VEVENT
BEGIN:VEVENT
DTSTART;TZID=Europe/Amsterdam:20240207T090000
DTEND;TZID=Europe/Amsterdam:20240209T180000
DTSTAMP:20260421T160713
CREATED:20240202T122105Z
LAST-MODIFIED:20240202T122715Z
UID:7077-1707296400-1707501600@delphy.nl
SUMMARY:Fruit Logistica 7\,8\,9 Februari 2024
DESCRIPTION:De Delphy stand is te vinden in hal 3.2\, standnummer D-51. \n7 and 8 February 2024\, 9 a.m. – 6 p.m. \n9 February 2024\, 9 a.m. – 4 p.m.
URL:https://delphy.nl/event/fruit-logistica-789-februari-2024/
CATEGORIES:Beurs
ATTACH;FMTTYPE=image/png:https://delphy.nl/wp-content/uploads/logo-fruit-logistica-fur-e-mail-und-web-e1706876819252.png
END:VEVENT
BEGIN:VEVENT
DTSTART;TZID=Europe/Amsterdam:20240130T093000
DTEND;TZID=Europe/Amsterdam:20240130T183000
DTSTAMP:20260421T160713
CREATED:20231207T103035Z
LAST-MODIFIED:20240124T073916Z
UID:5010-1706607000-1706639400@delphy.nl
SUMMARY:Pootaardappeldag
DESCRIPTION:Op dinsdag 30 januari 2024 organiseert Delphy weer Dé Pootaardappeldag\, wintereditie in ‘t Voorhuys in Emmeloord. Inloop vanaf 9.30 uur. Om 10.00 openen Jan Kiers (Delphy) en André Hoogendijk (BO Akkerbouw) de dag. \nDe teelt van pootaardappelen\nDe pootaardappelteelt is een kennisintensieve teelt met mooie\, nieuwe ontwikkelingen. Er is veel behoefte aan kennis en kennisdeling over de markt en maatschappij. Denk aan het wegvallen van middelen\, toenemende ziektedruk en klimaatadaptatie. Hoe blijf je als sector en bedrijf in al dit geweld overeind? In het dagvullende programma gaan diverse sprekers in hun presentaties in op deze uitdagingen. Alle details over het onderzoek in pootgoed en ontwikkelingen in de pootgoedteelt zullen dan worden gepresenteerd. Tijdens de uitgebreide pauze is de beursvloer te bezoeken. \nAanmelden\nU kunt zich aanmelden als deelnemer aan het programma op 30 januari 2024 met het bezoekersformulier onderaan deze pagina . \nProgramma\nEen dagvullend lezingenprogramma waarin alle details van voor de pootgoedteelt relevant onderzoek worden gepresenteerd\, naast ontwikkelingen in de pootgoedsector en daarbuiten. Tijdens de lunchpauze en borrel kunt u de verschillende bedrijven bezoeken die op het bedrijvenplein aanwezig zijn met hun producten en/of diensten en bijpraten met collegatelers. \nSprekersblok 1\n10.00 uur | Opening door de dagvoorzitter – Jan Kiers\, Delphy\n10.05 uur | Welkomstwoord – André Hoogendijk\, (BO Akkerbouw)\n10.30 uur | PPS vector- en virusbestrijding – Martin Verbeek\, Klaas van Rozen (WUR). De uitkomsten: hoe verloopt de virusoverdracht en de monitoring en welke beheersmaatregelen kunnen er worden genomen?\n11.15 uur | Virusselectie in de toekomst – Jan Kamp (WUR). Hoe werkt automatische vriusdetectie? Wat is de huidige stand van zaken en wat kunnen we de komende jaren verwachten qua ontwikkelingen? \nPauze en bezoek standhouders\n12.00 uur | Bezoek standhouders en lunchbuffet; mede mogelijk gemaakt door onze lunchsponsor Netafim \nSprekersblok 2\n13.30 uur | Feiten en fabels Erwinia – Peter Berghuis (LTO Pootaardappelen)\, Inge van Duivenbode (NAK)\, Jan van der Wolf (WUR). Wat weten we al wel of nog niet over Erwinia? Hoeveel komt het nu voor? Hoe kun je er als teler grip op krijgen en waarom is dat zo belangrijk?\n14.15 uur | Delphy Onderzoek – Jan Salomons (Delphy). Delphy doet onderzoek naar en geeft teeltadvies over Phytophthora- en virusbestrijding in pootaardappelen. Wat is de laatste stand van zaken?\n14.45 uur | Toekomst pootaardappelteelt – Henk Westerhof (SPNA). Wat zijn de uitdagingen in de pootgoedteelt rond gewasgezondheid en wat zijn de (on)mogelijkheden om die uitdagingen het hoofd te bieden? \nAfsluiting en bezoek standhouders\n15.20 uur | Afsluiting door de dagvoorzitter – Jan Kiers\, Delphy\n15.30 uur | Bezoek standhouders\, hapje en drankje op de beursvloer \nInformatie over sponsoring\nGeïnteresseerde sponsoren kunnen een email sturen naar Jan Kiers! We ontvangen graag onderstaand formulier ingevuld wanneer u toch zichtbaar wilt zijn op deze dag nu de beursvloer volledig volgeboekt is. Let op: Pakket 1\, 2 en 3 zijn uitverkocht. Na overleg met Jan Kiers ontvangen we graag onderstaand ingevuld sponsorformulier. \n \nRegistratie bezoekers\nMet onderstaand formulier meldt u zich aan voor de Pootaardappeldag 2024\, wintereditie \n\n                    Registratie bezoekers Pootaardappeldag 2024BedrijfVestigingsplaatsVoornaamTussenvoegselAchternaamE-mailTotaal aanwezig met x aantal personenHoud mij op de hoogte van de ontwikkelingen m.b.t. o.a. de Pootaardappeldag\, wintereditie en velddag in 2024 Ja NeeHeeft u nog vragen\, dieetwensen of opmerkingenMet het versturen van dit formulier ga ik akkoord dat gemaakte foto's en beeldmateriaal gebruikt kunnen worden voor berichtgeving omtrent de Pootaardappeldagen. Verzenden            \n            \n  \nRegistratie standhouders\nGeïnteresseerde sponsoren\,  kunnen (nog steeds) een email sturen naar Jan Kiers! \n 
URL:https://delphy.nl/event/pootaardappeldag/
LOCATION:’t Voorhuys\, Emmeloord\, Beursstraat 1\, Emmeloord\, 8302 CW\, Nederland
CATEGORIES:Conferentie
ATTACH;FMTTYPE=image/jpeg:https://delphy.nl/wp-content/uploads/pootaardappeldag-2-Middel.jpg
END:VEVENT
BEGIN:VEVENT
DTSTART;TZID=Europe/Amsterdam:20240125T150000
DTEND;TZID=Europe/Amsterdam:20240125T180000
DTSTAMP:20260421T160713
CREATED:20240107T203948Z
LAST-MODIFIED:20240111T182730Z
UID:5973-1706194800-1706205600@delphy.nl
SUMMARY:Winter Aardappelmiddag 2024
DESCRIPTION:Op 25 januari organiseert Delphy Onderzoek Akkerbouw de Wintermiddag. Een inspirerende bijeenkomst aan de hand van resultaten van afgelopen teeltseizoen en een blik op de toekomst. \n  \n\n\n\nInformatie\nMeer weten? Stuur een e-mail naar Dominique Cammaert \n 
URL:https://delphy.nl/event/winter-aardappelmiddag-2024/
LOCATION:Proefboerderij Rusthoeve\, Colijnsplaat\, Noordlangeweg 42\, Colijnsplaat\, 4486 PR\, Nederland
CATEGORIES:Velddag
ATTACH;FMTTYPE=image/jpeg:https://delphy.nl/wp-content/uploads/Aardappel-WM-scaled.jpg
END:VEVENT
BEGIN:VEVENT
DTSTART;TZID=Europe/Amsterdam:20230929T083000
DTEND;TZID=Europe/Amsterdam:20230929T160000
DTSTAMP:20260421T160713
CREATED:20230713T123256Z
LAST-MODIFIED:20240110T154115Z
UID:1555-1695976200-1696003200@delphy.nl
SUMMARY:Open dag Onderzoekskwekerij Boomteelt en Vasteplantenteelt
DESCRIPTION:Jaarlijkse open dag op Delphy Onderzoekskwekerij aan de Dijkgraafweg 32 in Hazerswoude Dorp. \nProgramma\n\nHartelijke ontvangst door teeltspecialist Johan van den Broek en onderzoeker Jeroen van der Meij\nKoffie\, thee\, koek\nRondleiding over de kwekerij\nToelichting op (openbare) onderzoeken en projecten\nDrankjes staan klaar en het team is aanwezig om uw vragen te beantwoorden\n\nInformatie\nBel ons met uw vraag\, we zijn bereikbaar op 0172 212 827
URL:https://delphy.nl/event/open-dag-onderzoekskwekerij-boomteelt-en-vasteplantenteelt/
LOCATION:Onderzoekskwekerij Boomteelt en Vasteplantenteelt\, Dijkgraafweg 32\, Hazerswoude-Dorp\, 2391 NV\, Nederland
CATEGORIES:Open dag
ATTACH;FMTTYPE=image/jpeg:https://delphy.nl/wp-content/uploads/20210924_164728-Groot.jpg
END:VEVENT
END:VCALENDAR