BEGIN:VCALENDAR
VERSION:2.0
PRODID:-//Delphy - ECPv6.15.18//NONSGML v1.0//EN
CALSCALE:GREGORIAN
METHOD:PUBLISH
X-ORIGINAL-URL:https://delphy.nl
X-WR-CALDESC:Evenementen voor Delphy
REFRESH-INTERVAL;VALUE=DURATION:PT1H
X-Robots-Tag:noindex
X-PUBLISHED-TTL:PT1H
BEGIN:VTIMEZONE
TZID:Europe/Amsterdam
BEGIN:DAYLIGHT
TZOFFSETFROM:+0100
TZOFFSETTO:+0200
TZNAME:CEST
DTSTART:20240331T010000
END:DAYLIGHT
BEGIN:STANDARD
TZOFFSETFROM:+0200
TZOFFSETTO:+0100
TZNAME:CET
DTSTART:20241027T010000
END:STANDARD
BEGIN:DAYLIGHT
TZOFFSETFROM:+0100
TZOFFSETTO:+0200
TZNAME:CEST
DTSTART:20250330T010000
END:DAYLIGHT
BEGIN:STANDARD
TZOFFSETFROM:+0200
TZOFFSETTO:+0100
TZNAME:CET
DTSTART:20251026T010000
END:STANDARD
BEGIN:DAYLIGHT
TZOFFSETFROM:+0100
TZOFFSETTO:+0200
TZNAME:CEST
DTSTART:20260329T010000
END:DAYLIGHT
BEGIN:STANDARD
TZOFFSETFROM:+0200
TZOFFSETTO:+0100
TZNAME:CET
DTSTART:20261025T010000
END:STANDARD
END:VTIMEZONE
BEGIN:VEVENT
DTSTART;TZID=Europe/Amsterdam:20250703T100000
DTEND;TZID=Europe/Amsterdam:20250703T200000
DTSTAMP:20260422T033142
CREATED:20250305T130827Z
LAST-MODIFIED:20250305T150638Z
UID:12004-1751536800-1751572800@delphy.nl
SUMMARY:Dé Appeldag 2025
DESCRIPTION:Delphy team Fruitteelt en NFO organiseren wederom Dé Appeldag; een studiedag rondom de teelt van appels en peren. Dé Appeldag 2025 vindt plaats op donderdag 3 juli 2025 in Wadenoijen bij Fruitteeltbedrijf Van Haaften. U bent welkom! \nProfileer uw bedrijf\nNa het grote succes van Dé Appeldag ’23\, met 120 standhouders en 2.000 bezoekers\, nodigen wij u van harte uit om te participeren in de komende Appeldag. Er zijn verschillende mogelijkheden om uw bedrijf te profileren: \n\nEen plek op de beursvloer (binnen of buiten)\nSponsorschap in de opties Goud\, Zilver of Brons\nAdverteren in het Magazine Dé Appeldag\n\nInformatie\nOp de website van Dé Appeldag vindt u alle benodigde informatie en kunt u zich inschrijven. Mocht u nog vragen hebben dan kunt u contact met ons opnemen via appeldag@delphy.nl of bellen met Jessica van Schuppen (maandag\, dinsdagochtend & vrijdagochtend) 0317 491 519 of René Bal 06 53 37 50 87. \nGraag tot ziens op 3 juli 2025 op Dé Appeldag! \nMet vriendelijke groet\,\nNamens team Delphy en NFO \nRené Bal
URL:https://delphy.nl/event/de-appeldag-2025/
LOCATION:Van Haaften Fruit\, Bommelweg 26\, Wadenoijen\, 4014 PW\, Netherlands
CATEGORIES:Beurs,Conferentie,Kennisbijeenkomst
ATTACH;FMTTYPE=image/jpeg:https://delphy.nl/wp-content/uploads/Fruitteelt/DSC00008-1-vk.jpg
END:VEVENT
END:VCALENDAR