BEGIN:VCALENDAR
VERSION:2.0
PRODID:-//Delphy - ECPv6.15.18//NONSGML v1.0//EN
CALSCALE:GREGORIAN
METHOD:PUBLISH
X-WR-CALNAME:Delphy
X-ORIGINAL-URL:https://delphy.nl
X-WR-CALDESC:Evenementen voor Delphy
REFRESH-INTERVAL;VALUE=DURATION:PT1H
X-Robots-Tag:noindex
X-PUBLISHED-TTL:PT1H
BEGIN:VTIMEZONE
TZID:Europe/Amsterdam
BEGIN:DAYLIGHT
TZOFFSETFROM:+0100
TZOFFSETTO:+0200
TZNAME:CEST
DTSTART:20240331T010000
END:DAYLIGHT
BEGIN:STANDARD
TZOFFSETFROM:+0200
TZOFFSETTO:+0100
TZNAME:CET
DTSTART:20241027T010000
END:STANDARD
BEGIN:DAYLIGHT
TZOFFSETFROM:+0100
TZOFFSETTO:+0200
TZNAME:CEST
DTSTART:20250330T010000
END:DAYLIGHT
BEGIN:STANDARD
TZOFFSETFROM:+0200
TZOFFSETTO:+0100
TZNAME:CET
DTSTART:20251026T010000
END:STANDARD
BEGIN:DAYLIGHT
TZOFFSETFROM:+0100
TZOFFSETTO:+0200
TZNAME:CEST
DTSTART:20260329T010000
END:DAYLIGHT
BEGIN:STANDARD
TZOFFSETFROM:+0200
TZOFFSETTO:+0100
TZNAME:CET
DTSTART:20261025T010000
END:STANDARD
END:VTIMEZONE
BEGIN:VEVENT
DTSTART;TZID=Europe/Amsterdam:20250604T120000
DTEND;TZID=Europe/Amsterdam:20250606T160000
DTSTAMP:20260422T050252
CREATED:20250305T110420Z
LAST-MODIFIED:20250521T062943Z
UID:11996-1749038400-1749225600@delphy.nl
SUMMARY:Delphy ISFC Summer Event 2025
DESCRIPTION:Welkom bij het Delphy ISFC Summer Event\nMet trots kondigen we het Delphy ISFC Summer Event 2025 aan. Het Delphy ISFC Summer Event wordt op een unieke manier georganiseerd\, letterlijk te midden van zachtfruitgewassen en onderzoeksprojecten. Dit resulteert in een sterke verbinding tussen kennisontwikkeling en kennisverspreiding. In een praktische setting\, verbonden met de internationale zachtfruitindustrie vindt een (driedaags) kennisevenement plaats over de verschillende zachtfruitgewassen: aardbei\, framboos\, braam en blauwe bes. \nSave the date\nHet Delphy ISFC Summer Event bestaat uit drie elementen: \n\nInnovation Partner Experience – woensdag 4 juni 2025 – bezoek de Delphy ISFC Innovatiepartners\nField Day – donderdag 5 juni 2025 – seminars\, beursvloer\, bezoek proeven op Delphy ISFC\, Field Day diner\nField Excursie – vrijdag 6 juni 2025 – excursie naar de Nederlandse zachtfruitindustrie\n\nDelphy ISFC Field Day brengt vier componenten samen in één evenement: het bezoeken van zachtfruitgewassen\, onderzoeksresultaten\, thematische seminars en een tentoonstelling met relevante bedrijven & zachtfruitnetwerk. \nWelkom! \n  \nKlik hier om deel te nemen.
URL:https://delphy.nl/event/delphy-isfc-summer-event-2025/
LOCATION:Delphy ISFC\, Horst\, Kreuzelweg 3b\, Horst\, 5961 NM\, Nederland
CATEGORIES:Conferentie
ATTACH;FMTTYPE=image/jpeg:https://delphy.nl/wp-content/uploads/Aankondiging-Field-Day-2024-v2-scaled.jpg
END:VEVENT
END:VCALENDAR