BEGIN:VCALENDAR
VERSION:2.0
PRODID:-//Delphy - ECPv6.15.18//NONSGML v1.0//EN
CALSCALE:GREGORIAN
METHOD:PUBLISH
X-WR-CALNAME:Delphy
X-ORIGINAL-URL:https://delphy.nl
X-WR-CALDESC:Evenementen voor Delphy
REFRESH-INTERVAL;VALUE=DURATION:PT1H
X-Robots-Tag:noindex
X-PUBLISHED-TTL:PT1H
BEGIN:VTIMEZONE
TZID:Europe/Amsterdam
BEGIN:DAYLIGHT
TZOFFSETFROM:+0100
TZOFFSETTO:+0200
TZNAME:CEST
DTSTART:20240331T010000
END:DAYLIGHT
BEGIN:STANDARD
TZOFFSETFROM:+0200
TZOFFSETTO:+0100
TZNAME:CET
DTSTART:20241027T010000
END:STANDARD
BEGIN:DAYLIGHT
TZOFFSETFROM:+0100
TZOFFSETTO:+0200
TZNAME:CEST
DTSTART:20250330T010000
END:DAYLIGHT
BEGIN:STANDARD
TZOFFSETFROM:+0200
TZOFFSETTO:+0100
TZNAME:CET
DTSTART:20251026T010000
END:STANDARD
BEGIN:DAYLIGHT
TZOFFSETFROM:+0100
TZOFFSETTO:+0200
TZNAME:CEST
DTSTART:20260329T010000
END:DAYLIGHT
BEGIN:STANDARD
TZOFFSETFROM:+0200
TZOFFSETTO:+0100
TZNAME:CET
DTSTART:20261025T010000
END:STANDARD
END:VTIMEZONE
BEGIN:VEVENT
DTSTART;TZID=Europe/Amsterdam:20250109T083000
DTEND;TZID=Europe/Amsterdam:20250109T180000
DTSTAMP:20260422T130335
CREATED:20240909T171806Z
LAST-MODIFIED:20240909T171902Z
UID:9996-1736411400-1736445600@delphy.nl
SUMMARY:International Soft Fruit Conference 2025 (ISFC)
DESCRIPTION:Op donderdag 9 januari 2025 is er weer de jaarlijkse International Soft Fruit Conference in het Congrescentrum 1931 in ‘s-Hertogenbosch.\nDit unieke evenement biedt de mogelijkheid om kennis te delen\, bij te praten en uit te wisselen in de internationale zachtfruitsector. \nVoor meer info zie onze website: https://softfruitconference.com/
URL:https://delphy.nl/event/international-soft-fruit-conference-2025-isfc/
LOCATION:1931 Congrescentrum ’s Hertogenbosch\, Oude Engelenseweg 1\, s-Hertogenbosch\, 5222 AA\, Netherlands
CATEGORIES:Conferentie
ATTACH;FMTTYPE=image/png:https://delphy.nl/wp-content/uploads/Evenementen/logo-isfc.png
END:VEVENT
BEGIN:VEVENT
DTSTART;TZID=Europe/Amsterdam:20250121T123000
DTEND;TZID=Europe/Amsterdam:20250121T170000
DTSTAMP:20260422T130335
CREATED:20241101T094333Z
LAST-MODIFIED:20250204T083817Z
UID:10700-1737462600-1737478800@delphy.nl
SUMMARY:Pootaardappeldag 2025
DESCRIPTION:Na de succesvolle recente edities in 2024 en 2023 organiseerde Delphy op 21 januari 2025 de negende editie van de Landelijke Pootaardappeldag in ’t Voorhuys Emmeloord.\nDe pootaardappelteelt staat nooit stil\, en u ook niet. Op de Pootaardappeldag van Delphy vindt u antwoorden op de uitdagingen van vandaag én morgen. Op de dag zelf kon u ter plaatse kiezen welke workshops u wilde bijwonen. \nWorkshop 1: \nGeert Pinxterhuis (BO Akkerbouw) – Pootgoed als cruciale bouwsteen in Phytophthorabeheersing \nIn 2024 kropen aardappeltelers door het oog van de naald met de vroegtijdige Phytophthora-uitbraak. De teelt staat de komende jaren écht op het spel. Wissel ervaringen en ideeën uit en draag bij aan een duurzame Phytophthorabeheersing met pootgoed als cruciale bouwsteen. \nWorkshop 2: \nJan Salomons (Delphy) – Resultaten Virusonderzoek in Pootaardappelen \nDelphy doet langjarig onderzoek naar luis en virus in pootaardappelen. Welke teeltmethode weert de meeste bladluizen en welk behandelingsschema geeft de laagste virus overdracht zijn de onderzoeksvragen. U wordt bijgepraat over de laatste resultaten en inzichten. \nWorkshop 3: \nJeroen Wolters (Doorgrond.nl) – Effectiever pootgoed selecteren met AI en cameratechniek! \nHeeft u vragen over deze workshop\, neem contact op met Doorgrond.nl via de website\nLandbouwinnovator Doorgrond.nl werkt met Croptimal aan slimme oplossingen in de landbouw. Krijg grip op uw pootgoedklasses met deze innovatie\, wanneer stapt u in? Welke selectiestrategie houdt u aan? Welke impact heeft dit op het gebruik van gewasbeschermingsmiddelen? \nWorkshop 4:\nCorné Kempenaar (BO Akkerbouw) – Grip op data voor pootgoedtelers \nWe stellen het zeer op prijs wanneer u de Enquête van Corné Kempenaar wilt invullen. Klik hiervoor op deze link\nData geeft pootgoedtelers waardevolle inzichten én ondersteunt bij het verantwoorden van prestaties en behalen van KPI’s. Ontdek de nieuwste ontwikkelingen in datagebruik binnen de akkerbouwsector en hoe deze uw teeltproces kunnen versterken. \nContact\nNeem bij vragen contact op met Jan Kiers\,  j.kiers@delphy.nl of 06-22993999 \nDit evenement had een andere opzet dan voorgaande jaren. In drie rondes kon gekozen worden uit vier inhoudelijke workshops welke het beste aansluiten bij de eigen bedrijfssituatie. Daarnaast waren verschillende bedrijven aanwezig met een stand en konden vragen gesteld worden aan de experts uit de pootgoedsector. De Pootaardappeldag 2025 was een middag waar collega-telers elkaar ontmoetten\, genoten van winterse kost\, naborrelden met een hapje en een drankje en met experts en betrokkenen uit de sector weer helemaal bijgepraat konden raken. \nMet dank aan onze standhouders\, onze deelnemers en hoofdsponsor Sourcetainable. \nDe lunch wordt u aangeboden door onze sponsor VHM Machinery. De netwerkborrel wordt mogelijk gemaakt door onze sponsor Nemacontrol. Mede door uw aanwezigheid wordt het weer een succesvolle dag! \nGraag zien we u in 2026 (weer) op de Pootaardappeldag. \nDe Pootaardappeldag is interessant voor u: \n\nEen inspirerend programma met boeiende presentaties over diverse onderwerpen die u als pootgoedteler raken.  \nEen bedrijvenplatform waarop bedrijven die betrokken zijn bij de pootgoedteelt zich presenteren. \nCollega-pootgoedtelers om ervaringen en kennis mee uit te wisselen. \nDiverse deskundigen die u kunt aanschieten om uw vragen aan voor te leggen.\n\nMIS HET NIET!  samen maken we de pootaardappelsector klaar voor de toekomst.\n  \n  \n  \n  \n  \n  \n  \nGraag krijg ik de presentaties van de Pootaardappeldag toegestuurd: \n\n                    Aanvraag presentaties en nieuws PootaardappeldagVoornaamtussenvoegselsAchternaamEmailOpmerkingenRequest information
URL:https://delphy.nl/event/pootaardappeldag-2025/
LOCATION:’t Voorhuys\, Emmeloord\, Beursstraat 1\, Emmeloord\, 8302 CW\, Nederland
CATEGORIES:Conferentie
ATTACH;FMTTYPE=image/jpeg:https://delphy.nl/wp-content/uploads/Aardappel-WM-scaled.jpg
END:VEVENT
END:VCALENDAR