BEGIN:VCALENDAR
VERSION:2.0
PRODID:-//Delphy - ECPv6.15.18//NONSGML v1.0//EN
CALSCALE:GREGORIAN
METHOD:PUBLISH
X-WR-CALNAME:Delphy
X-ORIGINAL-URL:https://delphy.nl
X-WR-CALDESC:Evenementen voor Delphy
REFRESH-INTERVAL;VALUE=DURATION:PT1H
X-Robots-Tag:noindex
X-PUBLISHED-TTL:PT1H
BEGIN:VTIMEZONE
TZID:Europe/Amsterdam
BEGIN:DAYLIGHT
TZOFFSETFROM:+0100
TZOFFSETTO:+0200
TZNAME:CEST
DTSTART:20230326T010000
END:DAYLIGHT
BEGIN:STANDARD
TZOFFSETFROM:+0200
TZOFFSETTO:+0100
TZNAME:CET
DTSTART:20231029T010000
END:STANDARD
BEGIN:DAYLIGHT
TZOFFSETFROM:+0100
TZOFFSETTO:+0200
TZNAME:CEST
DTSTART:20240331T010000
END:DAYLIGHT
BEGIN:STANDARD
TZOFFSETFROM:+0200
TZOFFSETTO:+0100
TZNAME:CET
DTSTART:20241027T010000
END:STANDARD
BEGIN:DAYLIGHT
TZOFFSETFROM:+0100
TZOFFSETTO:+0200
TZNAME:CEST
DTSTART:20250330T010000
END:DAYLIGHT
BEGIN:STANDARD
TZOFFSETFROM:+0200
TZOFFSETTO:+0100
TZNAME:CET
DTSTART:20251026T010000
END:STANDARD
END:VTIMEZONE
BEGIN:VEVENT
DTSTART;TZID=Europe/Amsterdam:20240327T123000
DTEND;TZID=Europe/Amsterdam:20240327T190000
DTSTAMP:20260423T051012
CREATED:20240122T091341Z
LAST-MODIFIED:20240311T122753Z
UID:6764-1711542600-1711566000@delphy.nl
SUMMARY:LichtEvent 2024
DESCRIPTION:Welk spectrum is het beste voor mijn gewas? Waar moet ik technisch gezien op letten bij de aanschaf en installatie van LED-belichting? Hoe moet ik ermee telen? Wat verandert er in het klimaat bij full LED-belichting en hoe reageert een gewas daar qua verdamping op? Wat is dynamisch belichten\, wat kan het opleveren en kan mijn gewas er wel tegen? \nVoor antwoorden op deze en andere vragen nodigen we u graag uit voor editie 2024 van het LichtEvent op woensdag 27 maart in Bleiswijk. Dit evenement is de ideale gelegenheid om kennis op te doen van de laatste ontwikkelingen\, inzichten en onderzoeken rondom (LED-) belichting en licht en daarover te discussiëren. Het evenement wordt georganiseerd door Delphy Improvement Centre\, Glastuinbouw Nederland\, Wageningen University & Research Business Unit Glastuinbouw & Bloembollen  en Plant Lighting in het kader van het programma Kas als Energiebron. \nU kunt deelnemen aan meerdere workshops over o.a. recent onderzoek rondom (LED-)belichting en kasproeven bezichtigen bij Delphy Improvement Centre en/of WUR. U kunt zelf uw voorkeuren opgeven voor de te volgen workshops en rondleidingen. Daarnaast kunt u de informatiemarkt met onder andere diverse LED-leveranciers bezoeken. \nPROGRAMMA\n12.30 uur Ontvangst\n13.00 uur Welkom en toelichting ontwikkelingen rondom energie in de glastuinbouw door Ruud Paauwe (Glastuinbouw Nederland)\nHoe kijken de retail sector en consument aan tegen belichting in de nabije toekomst met de huidige duurzaamheidsvraagstukken?\n13.45 uur Workshopronde 1\n14.45 uur Pauze en mogelijkheid bezoeken informatiemarkt\n15.30 uur Workshopronde 2\n16.30 uur Workshopronde 3\n17.30 uur Diner en mogelijkheid bezoeken informatiemarkt \nLOCATIE\nDelphy Improvement Centre\, Violierenweg 3\, 2665 MV Bleiswijk \nKOSTEN\nDeelname bedraagt € 30\,00 excl. BTW\, bij directe betaling via iDEAL. Ontvangt u liever een factuur\, dan zijn de kosten € 37\,50 excl. BTW (dit kunt u op het aanmeldformulier aangeven). \nAANMELDEN\nMeld u aan via het aanmeldformulier. Aanmelden is verplicht en kan tot maandag 25 maart\, 12.00 uur. Het LichtEvent is gericht op telers. Bent u geen teler dan is uw aanmelding onder voorbehoud van beschikbaarheid. Indien wij uw aanmelding hierdoor moeten annuleren krijgt u uiterlijk maandag 25 maart bericht hierover. \nANNULEREN\nAnnuleren kan alleen schriftelijk via akerkhof@glastuinbouwnederland.nl. Bij annulering vóór 25 maart \, 12.00 uur wordt uw inschrijfgeld\, minus € 7\,50 administratiekosten\, terugbetaald.\nNa 25 maart 12.00 uur kunt u niet meer annuleren. In overleg kunt u een vervanger sturen. \nAlle genoemde kosten zijn per persoon en exclusief BTW. \nBEELDMATERIAAL\nEr kunnen foto’s en video’s gemaakt worden ter terugblik of promotie van deze bijeenkomst. Als u daar bezwaar tegen heeft dan kunt u dit vooraf aangeven via info@kasalsenergiebron.nl. \nMEER INFORMATIE\nVoor vragen over het LichtEvent kunt u contact opnemen met Irma Bellekom.
URL:https://delphy.nl/event/lichtevent-2024/
LOCATION:Delphy Improvement Centre\, Violierenweg 3\, Bleiswijk\, 2665 MV\, Nederland
CATEGORIES:Conferentie
ATTACH;FMTTYPE=image/jpeg:https://delphy.nl/wp-content/uploads/LichtEvent-1.jpg
END:VEVENT
END:VCALENDAR