BEGIN:VCALENDAR
VERSION:2.0
PRODID:-//Delphy - ECPv6.15.18//NONSGML v1.0//EN
CALSCALE:GREGORIAN
METHOD:PUBLISH
X-WR-CALNAME:Delphy
X-ORIGINAL-URL:https://delphy.nl
X-WR-CALDESC:Evenementen voor Delphy
REFRESH-INTERVAL;VALUE=DURATION:PT1H
X-Robots-Tag:noindex
X-PUBLISHED-TTL:PT1H
BEGIN:VTIMEZONE
TZID:Europe/Amsterdam
BEGIN:DAYLIGHT
TZOFFSETFROM:+0100
TZOFFSETTO:+0200
TZNAME:CEST
DTSTART:20230326T010000
END:DAYLIGHT
BEGIN:STANDARD
TZOFFSETFROM:+0200
TZOFFSETTO:+0100
TZNAME:CET
DTSTART:20231029T010000
END:STANDARD
BEGIN:DAYLIGHT
TZOFFSETFROM:+0100
TZOFFSETTO:+0200
TZNAME:CEST
DTSTART:20240331T010000
END:DAYLIGHT
BEGIN:STANDARD
TZOFFSETFROM:+0200
TZOFFSETTO:+0100
TZNAME:CET
DTSTART:20241027T010000
END:STANDARD
BEGIN:DAYLIGHT
TZOFFSETFROM:+0100
TZOFFSETTO:+0200
TZNAME:CEST
DTSTART:20250330T010000
END:DAYLIGHT
BEGIN:STANDARD
TZOFFSETFROM:+0200
TZOFFSETTO:+0100
TZNAME:CET
DTSTART:20251026T010000
END:STANDARD
END:VTIMEZONE
BEGIN:VEVENT
DTSTART;TZID=Europe/Amsterdam:20241002T090000
DTEND;TZID=Europe/Amsterdam:20241004T180000
DTSTAMP:20260421T174448
CREATED:20240916T101901Z
LAST-MODIFIED:20240916T133826Z
UID:10036-1727859600-1728064800@delphy.nl
SUMMARY:Vakbeurs GrootGroenPlus
DESCRIPTION:Van woensdag 2 tot en met 4 oktober bent u van harte welkom in de stand (nr. G048) van Delphy\, team boomteelt en vaste plantenteelt tijdens de 34e Internationale boomkwekerijvakbeurs GrootGroenPlus in Zundert. \nOpeningstijden\nWoensdag 2 oktober 09.00 – 18.00 uur\nDonderdag 3 oktober 09.00 – 18.00 uur\nVrijdag 4 oktober 09.00 – 18.00 uur \nMeer informatie en ticket boeken\nWilt u de vakbeurs bezoeken dan kunt u via onderstaande link een ticket boeken op de website van GrootGroenPlus 2024.\nhttps://grootgroenplus.nl/tickets/nl.php \nVoor alle informatie over de vakbeurs\, exposantenlijst en plattegrond gaat u naar: https://www.grootgroenplus.nl/index.php \n 
URL:https://delphy.nl/event/vakbeurs-grootgroenplus/
LOCATION:Vakbeurs GrootGroenPlus\, Treeport 402 (BCT)\, Rijsbergen\, 4891 PZ
CATEGORIES:Beurs
ATTACH;FMTTYPE=image/png:https://delphy.nl/wp-content/uploads/Evenementen/Boomteelt_beursgrootgroenplus2024.png
END:VEVENT
BEGIN:VEVENT
DTSTART;TZID=Europe/Amsterdam:20240705T130000
DTEND;TZID=Europe/Amsterdam:20240705T210000
DTSTAMP:20260421T174448
CREATED:20240424T102348Z
LAST-MODIFIED:20240424T102916Z
UID:8746-1720184400-1720213200@delphy.nl
SUMMARY:Perendag 2024
DESCRIPTION:Thema: Duurzaam Telen\nVoor de elfde keer organiseren ZLTO\, NFO en Delphy op vrijdag 5 juli 2024 Dé Perendag op het gastbedrijf Vogelaar Fruitcultures FruVo in Krabbendijke. Een tweejaarlijkse themadag rondom innovatie\, teelt\, bewaring en afzet van peren. Dit jaar met extra aandacht voor het thema Duurzaam Telen\, uitgewerkt in rondleidingen\, een beurs\, demonstraties en de fruitsafari. \nKennis halen\, kennis delen\nWilt u als bedrijf of organisatie deelnemen en uw kennis van de perenteelt delen met de bezoekers? Dat stellen wij uiteraard zeer op prijs! Dit kan met een stand op de infomarkt\, met demonstraties van uw machine\, met een demoproef in de boomgaard en als (hoofd)sponsor van deze themadag. Kijk op de website van de Perendag voor informatie.
URL:https://delphy.nl/event/perendag-2024/
LOCATION:Fruvo\, Vogelaar Fruitcultures\, Oude Rijksweg 10A\, Krabbendijke\, 4413 NK\, Nederland
CATEGORIES:Beurs
ATTACH;FMTTYPE=image/jpeg:https://delphy.nl/wp-content/uploads/Perendag-2024.jpg
END:VEVENT
BEGIN:VEVENT
DTSTART;VALUE=DATE:20240611
DTEND;VALUE=DATE:20240614
DTSTAMP:20260421T174448
CREATED:20240402T093513Z
LAST-MODIFIED:20240416T130719Z
UID:8291-1718064000-1718323199@delphy.nl
SUMMARY:Greentech Amsterdam 11\,12 en 13 juni: 05.141
DESCRIPTION:Welkom op Greentech Amsterdam 2024. \nBezoek ons in stand 05.141. \n  \nOpeningstijden \nDinsdag 11 Juni 2024 | 10.00-18.00 uur\nWoensdag 12 Juni 2024 | 10.00-18.00 uur\nDonderdag 13 Juni 2024 | 10.00-16.00 uur
URL:https://delphy.nl/event/greentech-amsterdam-1112-en-13-juni-05-141/
LOCATION:Amsterdam RAI\, Europaplein 24\, Amsterdam\, Noord-Holland\, 1078 GZ\, Nederland
CATEGORIES:Beurs
ATTACH;FMTTYPE=image/png:https://delphy.nl/wp-content/uploads/logo-GT24-web-e1712050826402.png
END:VEVENT
BEGIN:VEVENT
DTSTART;TZID=Europe/Amsterdam:20240207T090000
DTEND;TZID=Europe/Amsterdam:20240209T180000
DTSTAMP:20260421T174448
CREATED:20240202T122105Z
LAST-MODIFIED:20240202T122715Z
UID:7077-1707296400-1707501600@delphy.nl
SUMMARY:Fruit Logistica 7\,8\,9 Februari 2024
DESCRIPTION:De Delphy stand is te vinden in hal 3.2\, standnummer D-51. \n7 and 8 February 2024\, 9 a.m. – 6 p.m. \n9 February 2024\, 9 a.m. – 4 p.m.
URL:https://delphy.nl/event/fruit-logistica-789-februari-2024/
CATEGORIES:Beurs
ATTACH;FMTTYPE=image/png:https://delphy.nl/wp-content/uploads/logo-fruit-logistica-fur-e-mail-und-web-e1706876819252.png
END:VEVENT
END:VCALENDAR