BEGIN:VCALENDAR
VERSION:2.0
PRODID:-//Delphy - ECPv6.15.18//NONSGML v1.0//EN
CALSCALE:GREGORIAN
METHOD:PUBLISH
X-ORIGINAL-URL:https://delphy.nl
X-WR-CALDESC:Evenementen voor Delphy
REFRESH-INTERVAL;VALUE=DURATION:PT1H
X-Robots-Tag:noindex
X-PUBLISHED-TTL:PT1H
BEGIN:VTIMEZONE
TZID:Europe/Amsterdam
BEGIN:DAYLIGHT
TZOFFSETFROM:+0100
TZOFFSETTO:+0200
TZNAME:CEST
DTSTART:20240331T010000
END:DAYLIGHT
BEGIN:STANDARD
TZOFFSETFROM:+0200
TZOFFSETTO:+0100
TZNAME:CET
DTSTART:20241027T010000
END:STANDARD
BEGIN:DAYLIGHT
TZOFFSETFROM:+0100
TZOFFSETTO:+0200
TZNAME:CEST
DTSTART:20250330T010000
END:DAYLIGHT
BEGIN:STANDARD
TZOFFSETFROM:+0200
TZOFFSETTO:+0100
TZNAME:CET
DTSTART:20251026T010000
END:STANDARD
BEGIN:DAYLIGHT
TZOFFSETFROM:+0100
TZOFFSETTO:+0200
TZNAME:CEST
DTSTART:20260329T010000
END:DAYLIGHT
BEGIN:STANDARD
TZOFFSETFROM:+0200
TZOFFSETTO:+0100
TZNAME:CET
DTSTART:20261025T010000
END:STANDARD
END:VTIMEZONE
BEGIN:VEVENT
DTSTART;TZID=Europe/Amsterdam:20250903T090000
DTEND;TZID=Europe/Amsterdam:20250904T180000
DTSTAMP:20260422T012236
CREATED:20250623T141243Z
LAST-MODIFIED:20250811T121019Z
UID:13978-1756890000-1757008800@delphy.nl
SUMMARY:Potato Europe in Lelystad op 3 en 4 september
DESCRIPTION:Delphy is standhouder samen met Peterson Solutions en Control Union certificering op Potato Europe \nstand F6-04 \ndinsdag 3 en woensdag 4 september \nterrein van WUR open teelten\, Edelhertweg 1\, Lelystad \n9.00 – 18.00 uur \n 
URL:https://delphy.nl/event/potato-europe-2/
LOCATION:WUR Lelystad\, Edelhertweg 1\, Lelystad\, Flevoland\, 8219 PH\, Netherlands
CATEGORIES:Beurs
ATTACH;FMTTYPE=image/jpeg:https://delphy.nl/wp-content/uploads/International/image00006.jpeg
END:VEVENT
END:VCALENDAR