BEGIN:VCALENDAR
VERSION:2.0
PRODID:-//Delphy - ECPv6.15.18//NONSGML v1.0//EN
CALSCALE:GREGORIAN
METHOD:PUBLISH
X-ORIGINAL-URL:https://delphy.nl/en/
X-WR-CALDESC:Events for Delphy
REFRESH-INTERVAL;VALUE=DURATION:PT1H
X-Robots-Tag:noindex
X-PUBLISHED-TTL:PT1H
BEGIN:VTIMEZONE
TZID:America/Halifax
BEGIN:DAYLIGHT
TZOFFSETFROM:-0400
TZOFFSETTO:-0300
TZNAME:ADT
DTSTART:20250309T060000
END:DAYLIGHT
BEGIN:STANDARD
TZOFFSETFROM:-0300
TZOFFSETTO:-0400
TZNAME:AST
DTSTART:20251102T050000
END:STANDARD
BEGIN:DAYLIGHT
TZOFFSETFROM:-0400
TZOFFSETTO:-0300
TZNAME:ADT
DTSTART:20260308T060000
END:DAYLIGHT
BEGIN:STANDARD
TZOFFSETFROM:-0300
TZOFFSETTO:-0400
TZNAME:AST
DTSTART:20261101T050000
END:STANDARD
BEGIN:DAYLIGHT
TZOFFSETFROM:-0400
TZOFFSETTO:-0300
TZNAME:ADT
DTSTART:20270314T060000
END:DAYLIGHT
BEGIN:STANDARD
TZOFFSETFROM:-0300
TZOFFSETTO:-0400
TZNAME:AST
DTSTART:20271107T050000
END:STANDARD
END:VTIMEZONE
BEGIN:VTIMEZONE
TZID:Europe/Amsterdam
BEGIN:DAYLIGHT
TZOFFSETFROM:+0100
TZOFFSETTO:+0200
TZNAME:CEST
DTSTART:20260329T010000
END:DAYLIGHT
BEGIN:STANDARD
TZOFFSETFROM:+0200
TZOFFSETTO:+0100
TZNAME:CET
DTSTART:20261025T010000
END:STANDARD
BEGIN:DAYLIGHT
TZOFFSETFROM:+0100
TZOFFSETTO:+0200
TZNAME:CEST
DTSTART:20270328T010000
END:DAYLIGHT
BEGIN:STANDARD
TZOFFSETFROM:+0200
TZOFFSETTO:+0100
TZNAME:CET
DTSTART:20271031T010000
END:STANDARD
BEGIN:DAYLIGHT
TZOFFSETFROM:+0100
TZOFFSETTO:+0200
TZNAME:CEST
DTSTART:20280326T010000
END:DAYLIGHT
BEGIN:STANDARD
TZOFFSETFROM:+0200
TZOFFSETTO:+0100
TZNAME:CET
DTSTART:20281029T010000
END:STANDARD
END:VTIMEZONE
BEGIN:VEVENT
DTSTART;TZID=America/Halifax:20260923T100000
DTEND;TZID=America/Halifax:20260924T180000
DTSTAMP:20260422T114808
CREATED:20260401T102939Z
LAST-MODIFIED:20260401T110325Z
UID:18004-1790157600-1790272800@delphy.nl
SUMMARY:GreenTech North America (Philadelphia\, USA)
DESCRIPTION:Curious how to take your cultivation to the next level with data? Visit us for a live demo of our crop-specific QMS solutions: QMS Tomato\, QMS Cucumber\, and QMS Strawberry. These tools support growers in making informed decisions\, always with the plant central. \nBy combining growth models\, digitalization\, and the assimilate balance\, we help you steer your crop strategy with confidence. Whether you focus on yield\, quality\, or maintaining plant balance. QMS gives you real-time insights to support the best possible choices. We believe the future of cultivation is data-driven\, but always focussed on the needs of the plant. \nStop by and discover how we can support your next step in smart cultivation! \nJoin us GreenTech North America in Philadelphia (USA) van 23 – 24 September 2026.\nYou will find us in booth: 611 \nLocation: \nPennsylvania Convention Center\n1101 Arch Street\nPhiladelphia\, PA 19107\nUSA
URL:https://delphy.nl/en/event/greentech-north-america-philadelphia-usa/
LOCATION:Pennsylvania Convention Center\, 1101 Arch Street\, Philadelphia\, PA\, 19107\, United States
CATEGORIES:Fair
ATTACH;FMTTYPE=image/jpeg:https://delphy.nl/wp-content/uploads/Evenementen/2026_Foto-stand-Greentech_DD.jpg
END:VEVENT
BEGIN:VEVENT
DTSTART;TZID=Europe/Amsterdam:20270106T090000
DTEND;TZID=Europe/Amsterdam:20270106T170000
DTSTAMP:20260422T114808
CREATED:20260205T100044Z
LAST-MODIFIED:20260205T102043Z
UID:17081-1799226000-1799254800@delphy.nl
SUMMARY:Dutch Strawberry Day 2027
DESCRIPTION:On Wednesday January 6\, 2027 the annual Strawberry Day will be held again in the Congrescentrum 1931 in ‘s-Hertogenbosch. An interesting day for everyone involved in strawberry cultivation: knowledge\, networking and inspiring speakers. \nThe Dutch Strawberry Day is a collaboration between Delphy\, Glastuinbouw Nederland en ZLTO.\nClick here for more information https://softfruitconference.com/dutch-strawberry-day/ \n  \n 
URL:https://delphy.nl/en/event/dutch-strawberry-day-2027/
LOCATION:1931 Congrescentrum ‘s Hertogenbosch\, Oude Engelenseweg 1\, s-Hertogenbosch\, 5222 AA\, Netherlands
CATEGORIES:Knowledge Event
ATTACH;FMTTYPE=image/jpeg:https://delphy.nl/wp-content/uploads/aardbei-scaled.jpg
END:VEVENT
BEGIN:VEVENT
DTSTART;TZID=Europe/Amsterdam:20270107T083000
DTEND;TZID=Europe/Amsterdam:20270107T180000
DTSTAMP:20260422T114808
CREATED:20260205T100446Z
LAST-MODIFIED:20260205T102213Z
UID:17088-1799310600-1799344800@delphy.nl
SUMMARY:International Soft Fruit Conference 2027 (ISFC)
DESCRIPTION:The 15th edition of the “International Soft Fruit Conference” will take place on Thursday January 7\, 2027 in the Netherlands. This unique event gives the opportunity to meet\, update and exchange knowledge in the international soft fruit sector. The location is again the “1931 Congrescentrum” in ‘s-Hertogenbosch. \nMore information: https://softfruitconference.com/
URL:https://delphy.nl/en/event/international-soft-fruit-conference-2027-isfc/
LOCATION:1931 Congrescentrum ‘s Hertogenbosch\, Oude Engelenseweg 1\, s-Hertogenbosch\, 5222 AA\, Netherlands
CATEGORIES:Conference
ATTACH;FMTTYPE=image/png:https://delphy.nl/wp-content/uploads/Evenementen/logo-isfc.png
ORGANIZER;CN="Delphy ISFC Horst":MAILTO:isfc@delphy.nl
END:VEVENT
BEGIN:VEVENT
DTSTART;TZID=Europe/Amsterdam:20270128T123000
DTEND;TZID=Europe/Amsterdam:20270128T173000
DTSTAMP:20260422T114808
CREATED:20260320T131433Z
LAST-MODIFIED:20260320T131822Z
UID:17835-1801139400-1801157400@delphy.nl
SUMMARY:Pootaardappeldag 2027 (dutch spoken)
DESCRIPTION:Tuesday afternoon the Potato day will be organised in Voorhuys Emmeloord.  \nSave the date  January 28! \n* Fair with over 15 exposants\n* 3 workshops about potato cultivation in practise \n\nInformation! send an email to a.haange@delphy.nl 
URL:https://delphy.nl/en/event/pootaardappeldag-2027-dutch-spoken/
LOCATION:‘t Voorhuys\, Emmeloord\, Beursstraat 1\, Emmeloord\, 8302 CW\, Nederland
CATEGORIES:Conference
ATTACH;FMTTYPE=image/jpeg:https://delphy.nl/wp-content/uploads/Aardappel-WM-scaled.jpg
END:VEVENT
END:VCALENDAR