BEGIN:VCALENDAR
VERSION:2.0
PRODID:-//Delphy - ECPv6.15.18//NONSGML v1.0//EN
CALSCALE:GREGORIAN
METHOD:PUBLISH
X-ORIGINAL-URL:https://delphy.nl/en/
X-WR-CALDESC:Events for Delphy
REFRESH-INTERVAL;VALUE=DURATION:PT1H
X-Robots-Tag:noindex
X-PUBLISHED-TTL:PT1H
BEGIN:VTIMEZONE
TZID:Europe/Amsterdam
BEGIN:DAYLIGHT
TZOFFSETFROM:+0100
TZOFFSETTO:+0200
TZNAME:CEST
DTSTART:20250330T010000
END:DAYLIGHT
BEGIN:STANDARD
TZOFFSETFROM:+0200
TZOFFSETTO:+0100
TZNAME:CET
DTSTART:20251026T010000
END:STANDARD
BEGIN:DAYLIGHT
TZOFFSETFROM:+0100
TZOFFSETTO:+0200
TZNAME:CEST
DTSTART:20260329T010000
END:DAYLIGHT
BEGIN:STANDARD
TZOFFSETFROM:+0200
TZOFFSETTO:+0100
TZNAME:CET
DTSTART:20261025T010000
END:STANDARD
BEGIN:DAYLIGHT
TZOFFSETFROM:+0100
TZOFFSETTO:+0200
TZNAME:CEST
DTSTART:20270328T010000
END:DAYLIGHT
BEGIN:STANDARD
TZOFFSETFROM:+0200
TZOFFSETTO:+0100
TZNAME:CET
DTSTART:20271031T010000
END:STANDARD
END:VTIMEZONE
BEGIN:VEVENT
DTSTART;TZID=Europe/Amsterdam:20260324T130000
DTEND;TZID=Europe/Amsterdam:20260326T180000
DTSTAMP:20260421T124846
CREATED:20251119T134025Z
LAST-MODIFIED:20251119T140313Z
UID:16194-1774357200-1774548000@delphy.nl
SUMMARY:GreenTech Americas (Mexico)
DESCRIPTION:Curious how to take your cultivation to the next level with data? Visit us for a live demo of our crop-specific QMS solutions: QMS Tomato\, QMS Cucumber\, and QMS Strawberry. These tools support growers in making informed decisions\, always with the plant central. \nBy combining growth models\, digitalization\, and the assimilate balance\, we help you steer your crop strategy with confidence. Whether you focus on yield\, quality\, or maintaining plant balance. QMS gives you real-time insights to support the best possible choices. We believe the future of cultivation is data-driven\, but always focussed on the needs of the plant. \nStop by and discover how we can support your next step in smart cultivation! \nJoin us on March 24 – March 26\, 2026 in Querétaro Mexico.\nYou will find us in booth: 2014 \nLocation: \nQuerétaro Centro de Congresos\nQRO México\nPaseo de las Artes 1531\nJosefa Vergara 76090\nMexico
URL:https://delphy.nl/en/event/greentech-americas-mexico/
LOCATION:Querétaro Centro de Congresos QRO México\, Querétaro\, 76090\, Mexico
CATEGORIES:Fair
ATTACH;FMTTYPE=image/png:https://delphy.nl/wp-content/uploads/Evenementen/Delphy_PS-Logo_RGB-Klein.png
END:VEVENT
END:VCALENDAR