BEGIN:VCALENDAR
VERSION:2.0
PRODID:-//Delphy - ECPv6.15.18//NONSGML v1.0//EN
CALSCALE:GREGORIAN
METHOD:PUBLISH
X-WR-CALNAME:Delphy
X-ORIGINAL-URL:https://delphy.nl/en/
X-WR-CALDESC:Events for Delphy
REFRESH-INTERVAL;VALUE=DURATION:PT1H
X-Robots-Tag:noindex
X-PUBLISHED-TTL:PT1H
BEGIN:VTIMEZONE
TZID:Europe/Amsterdam
BEGIN:DAYLIGHT
TZOFFSETFROM:+0100
TZOFFSETTO:+0200
TZNAME:CEST
DTSTART:20240331T010000
END:DAYLIGHT
BEGIN:STANDARD
TZOFFSETFROM:+0200
TZOFFSETTO:+0100
TZNAME:CET
DTSTART:20241027T010000
END:STANDARD
BEGIN:DAYLIGHT
TZOFFSETFROM:+0100
TZOFFSETTO:+0200
TZNAME:CEST
DTSTART:20250330T010000
END:DAYLIGHT
BEGIN:STANDARD
TZOFFSETFROM:+0200
TZOFFSETTO:+0100
TZNAME:CET
DTSTART:20251026T010000
END:STANDARD
BEGIN:DAYLIGHT
TZOFFSETFROM:+0100
TZOFFSETTO:+0200
TZNAME:CEST
DTSTART:20260329T010000
END:DAYLIGHT
BEGIN:STANDARD
TZOFFSETFROM:+0200
TZOFFSETTO:+0100
TZNAME:CET
DTSTART:20261025T010000
END:STANDARD
END:VTIMEZONE
BEGIN:VEVENT
DTSTART;TZID=Europe/Amsterdam:20250610T100000
DTEND;TZID=Europe/Amsterdam:20250612T170000
DTSTAMP:20260423T221859
CREATED:20250102T143449Z
LAST-MODIFIED:20250528T150928Z
UID:11373-1749549600-1749747600@delphy.nl
SUMMARY:Greentech Amsterdam 2025
DESCRIPTION:Delphy is an exhibitor at Greentech Amsterdam. \nVisit us in booth 05.137 \nTuesday 10 June 2025 | 10.00 – 18.00 hrs\nWednesday 11 June 2025 | 10.00 – 20.00 hrs\nThursday 12 June 2025 | 10.00 – 16.00 hrs \n\nWe provide services in global agriculture and horticulture:\n\n\n🤝consultancy\n\n\n💻 data-driven cultivation management\n\n\n🔬 research (on-site or at our own greenhouse complex)\n\n\n🧐 trainings\n\n\n🥔 (turnkey) projects \n\n\n \n\n\nWe operate as the 🌍largest global commercial service provider in the field of cultivation and production related knowledge regarding 🍅 food & flower processes. \n\n\n❇️Our professionals are a strong team of enterprising\, independent developers with leading knowledge and expertise to offer each client the best solutions and guiding clients to realize their ambitions.\n\n\n \n\n\n💡Would you like to know more? \n\n\n🗓️Meet us June 10\, 11 and 12 in Amsterdam. Register your free entranceticket before June 9 
URL:https://delphy.nl/en/event/greentech-amsterdam-2025/
LOCATION:Amsterdam RAI\, Europaplein 24\, Amsterdam\, Noord-Holland\, 1078 GZ\, Nederland
CATEGORIES:Fair
ATTACH;FMTTYPE=image/jpeg:https://delphy.nl/wp-content/uploads/Glastuinbouw/youtube-header-UK_v0200.jpg
END:VEVENT
END:VCALENDAR