BEGIN:VCALENDAR
VERSION:2.0
PRODID:-//Delphy - ECPv6.15.18//NONSGML v1.0//EN
CALSCALE:GREGORIAN
METHOD:PUBLISH
X-ORIGINAL-URL:https://delphy.nl/en/
X-WR-CALDESC:Events for Delphy
REFRESH-INTERVAL;VALUE=DURATION:PT1H
X-Robots-Tag:noindex
X-PUBLISHED-TTL:PT1H
BEGIN:VTIMEZONE
TZID:Europe/Amsterdam
BEGIN:DAYLIGHT
TZOFFSETFROM:+0100
TZOFFSETTO:+0200
TZNAME:CEST
DTSTART:20240331T010000
END:DAYLIGHT
BEGIN:STANDARD
TZOFFSETFROM:+0200
TZOFFSETTO:+0100
TZNAME:CET
DTSTART:20241027T010000
END:STANDARD
BEGIN:DAYLIGHT
TZOFFSETFROM:+0100
TZOFFSETTO:+0200
TZNAME:CEST
DTSTART:20250330T010000
END:DAYLIGHT
BEGIN:STANDARD
TZOFFSETFROM:+0200
TZOFFSETTO:+0100
TZNAME:CET
DTSTART:20251026T010000
END:STANDARD
BEGIN:DAYLIGHT
TZOFFSETFROM:+0100
TZOFFSETTO:+0200
TZNAME:CEST
DTSTART:20260329T010000
END:DAYLIGHT
BEGIN:STANDARD
TZOFFSETFROM:+0200
TZOFFSETTO:+0100
TZNAME:CET
DTSTART:20261025T010000
END:STANDARD
END:VTIMEZONE
BEGIN:VEVENT
DTSTART;TZID=Europe/Amsterdam:20250205T090000
DTEND;TZID=Europe/Amsterdam:20250207T170000
DTSTAMP:20260425T173138
CREATED:20241223T154619Z
LAST-MODIFIED:20250108T161901Z
UID:11285-1738746000-1738947600@delphy.nl
SUMMARY:Fruit Logistica 2025
DESCRIPTION:Delphy is exhibiting at the Fruit Logistica. Visit us in Hall 3.2\, booth A-24. We operate as the largest global commercial service provider in the field of cultivation and production related knowledge regarding food & flower processes. Our professionals are a strong team of enterprising\, independent developers with leading knowledge and expertise to offer each client the best solutions and guiding clients to realize their ambitions. We provide services in consultancy\, research (on-site or at our own greenhouse complex)\, trainings and (turnkey) projects to progressive parties in cultivation and cultivation environments. Would you like to know more? Meet us February 5\, 6 and 7 2025 in Berlin https://www.fruitlogistica.com/en/about/
URL:https://delphy.nl/en/event/fruit-logistica-2025/
LOCATION:Querétaro
CATEGORIES:Fair
ATTACH;FMTTYPE=image/png:https://delphy.nl/wp-content/uploads/Corporate-images/schets-met-FL25-socials.png
END:VEVENT
BEGIN:VEVENT
DTSTART;TZID=Europe/Amsterdam:20250218T130000
DTEND;TZID=Europe/Amsterdam:20250220T210000
DTSTAMP:20260425T173138
CREATED:20241223T155835Z
LAST-MODIFIED:20241223T160052Z
UID:11298-1739883600-1740085200@delphy.nl
SUMMARY:Horticontact 2025
DESCRIPTION:Let us meet in Gorinchem \n\n18\, 19 & 20 February\nHorticontact – Gorinchem; booth B11
URL:https://delphy.nl/en/event/horticontact-2025/
LOCATION:Querétaro
CATEGORIES:Fair
ATTACH;FMTTYPE=image/png:https://delphy.nl/wp-content/uploads/Glastuinbouw/zijwand-knipsel.png
END:VEVENT
END:VCALENDAR