BEGIN:VCALENDAR
VERSION:2.0
PRODID:-//Delphy - ECPv6.15.18//NONSGML v1.0//EN
CALSCALE:GREGORIAN
METHOD:PUBLISH
X-WR-CALNAME:Delphy
X-ORIGINAL-URL:https://delphy.nl/en/
X-WR-CALDESC:Events for Delphy
REFRESH-INTERVAL;VALUE=DURATION:PT1H
X-Robots-Tag:noindex
X-PUBLISHED-TTL:PT1H
BEGIN:VTIMEZONE
TZID:Europe/Amsterdam
BEGIN:DAYLIGHT
TZOFFSETFROM:+0100
TZOFFSETTO:+0200
TZNAME:CEST
DTSTART:20230326T010000
END:DAYLIGHT
BEGIN:STANDARD
TZOFFSETFROM:+0200
TZOFFSETTO:+0100
TZNAME:CET
DTSTART:20231029T010000
END:STANDARD
BEGIN:DAYLIGHT
TZOFFSETFROM:+0100
TZOFFSETTO:+0200
TZNAME:CEST
DTSTART:20240331T010000
END:DAYLIGHT
BEGIN:STANDARD
TZOFFSETFROM:+0200
TZOFFSETTO:+0100
TZNAME:CET
DTSTART:20241027T010000
END:STANDARD
BEGIN:DAYLIGHT
TZOFFSETFROM:+0100
TZOFFSETTO:+0200
TZNAME:CEST
DTSTART:20250330T010000
END:DAYLIGHT
BEGIN:STANDARD
TZOFFSETFROM:+0200
TZOFFSETTO:+0100
TZNAME:CET
DTSTART:20251026T010000
END:STANDARD
END:VTIMEZONE
BEGIN:VEVENT
DTSTART;TZID=Europe/Amsterdam:20241002T090000
DTEND;TZID=Europe/Amsterdam:20241004T180000
DTSTAMP:20260426T001543
CREATED:20240916T101901Z
LAST-MODIFIED:20240916T133734Z
UID:10046-1727859600-1728064800@delphy.nl
SUMMARY:Vakbeurs GrootGroenPlus
DESCRIPTION:From Wednesday\, October 2 through 4\, you are welcome to visit the exhibition stand (no. G048) of Delphy\, team arboriculture and perennial plant cultivation during the 34th International Arboriculture Trade Fair GrootGroenPlus in Zundert. \nOpening hours\nWednesday\, October 2\, 09.00 – 18.00 h\nThursday\, October 3\, 09.00 – 18.00 h\nFriday\, October 4\, 09.00 -18.00 h \nFind out more and book ticket\nIf you want to visit the trade fair\, you can book a ticket on the GrootGroenPlus 2024 website using the link below.\nhttps://grootgroenplus.nl/tickets/nl.php \nFor all information about the trade show\, exhibitor list and floor plan go to: https://www.grootgroenplus.nl/index.php \n 
URL:https://delphy.nl/en/event/vakbeurs-grootgroenplus/
LOCATION:Vakbeurs GrootGroenPlus\, Treeport 402 (BCT)\, Rijsbergen\, 4891 PZ
CATEGORIES:Fair
ATTACH;FMTTYPE=image/png:https://delphy.nl/wp-content/uploads/Evenementen/Boomteelt_beursgrootgroenplus2024.png
END:VEVENT
END:VCALENDAR