BEGIN:VCALENDAR
VERSION:2.0
PRODID:-//Delphy - ECPv6.15.18//NONSGML v1.0//EN
CALSCALE:GREGORIAN
METHOD:PUBLISH
X-WR-CALNAME:Delphy
X-ORIGINAL-URL:https://delphy.nl/en/
X-WR-CALDESC:Events for Delphy
REFRESH-INTERVAL;VALUE=DURATION:PT1H
X-Robots-Tag:noindex
X-PUBLISHED-TTL:PT1H
BEGIN:VTIMEZONE
TZID:Europe/Amsterdam
BEGIN:DAYLIGHT
TZOFFSETFROM:+0100
TZOFFSETTO:+0200
TZNAME:CEST
DTSTART:20230326T010000
END:DAYLIGHT
BEGIN:STANDARD
TZOFFSETFROM:+0200
TZOFFSETTO:+0100
TZNAME:CET
DTSTART:20231029T010000
END:STANDARD
BEGIN:DAYLIGHT
TZOFFSETFROM:+0100
TZOFFSETTO:+0200
TZNAME:CEST
DTSTART:20240331T010000
END:DAYLIGHT
BEGIN:STANDARD
TZOFFSETFROM:+0200
TZOFFSETTO:+0100
TZNAME:CET
DTSTART:20241027T010000
END:STANDARD
BEGIN:DAYLIGHT
TZOFFSETFROM:+0100
TZOFFSETTO:+0200
TZNAME:CEST
DTSTART:20250330T010000
END:DAYLIGHT
BEGIN:STANDARD
TZOFFSETFROM:+0200
TZOFFSETTO:+0100
TZNAME:CET
DTSTART:20251026T010000
END:STANDARD
END:VTIMEZONE
BEGIN:VEVENT
DTSTART;TZID=Europe/Amsterdam:20240130T093000
DTEND;TZID=Europe/Amsterdam:20240130T183000
DTSTAMP:20260424T100826
CREATED:20231207T103035Z
LAST-MODIFIED:20240110T154836Z
UID:6200-1706607000-1706639400@delphy.nl
SUMMARY:Seed potato day
DESCRIPTION:On 30 January 2024\, Delphy is organising the Seed Potato Day in Emmeloord. We will bring detailed insights into haulm kill in seed potatoes\, the aphid virus\, and other crucial developments in seed potato cultivation. We will reveal more about the date and theme soon. Sponsors\, exhibitors and anyone with interesting presentations should contact Jan Kiers. \n\n\n\nSeed Potato Day winter edition 2024\n\nMore than 20 exhibitors and 240 visitors\nVarious lecture programme for all visitors\nPresentations available for download\n\nInformation\nWant to know more? Please contact Jan Kiers. \n 
URL:https://delphy.nl/en/event/seed-potato-day/
LOCATION:‘t Voorhuys\, Emmeloord\, Beursstraat 1\, Emmeloord\, 8302 CW\, Nederland
CATEGORIES:Conference
ATTACH;FMTTYPE=image/jpeg:https://delphy.nl/wp-content/uploads/pootaardappeldag-2-Middel.jpg
END:VEVENT
END:VCALENDAR